BEGIN:VCALENDAR
VERSION:2.0
PRODID:-//Lucky Bernie&#039;s - ECPv6.3.7//NONSGML v1.0//EN
CALSCALE:GREGORIAN
METHOD:PUBLISH
X-WR-CALNAME:Lucky Bernie&#039;s
X-ORIGINAL-URL:https://luckybernies.com
X-WR-CALDESC:Events for Lucky Bernie&#039;s
REFRESH-INTERVAL;VALUE=DURATION:PT1H
X-Robots-Tag:noindex
X-PUBLISHED-TTL:PT1H
BEGIN:VTIMEZONE
TZID:America/Chicago
BEGIN:DAYLIGHT
TZOFFSETFROM:-0600
TZOFFSETTO:-0500
TZNAME:CDT
DTSTART:20190310T080000
END:DAYLIGHT
BEGIN:STANDARD
TZOFFSETFROM:-0500
TZOFFSETTO:-0600
TZNAME:CST
DTSTART:20191103T070000
END:STANDARD
END:VTIMEZONE
BEGIN:VEVENT
DTSTART;TZID=America/Chicago:20190122T190000
DTEND;TZID=America/Chicago:20190122T220000
DTSTAMP:20260425T212928
CREATED:20190114T160800Z
LAST-MODIFIED:20190114T161124Z
UID:2191-1548183600-1548194400@luckybernies.com
SUMMARY:Trivia Night Huntley IL
DESCRIPTION:What’s an awesome way to spend an evening? Trivia Night at Lucky Bernie’s! WIN PRIZES!!! You’re invited to Lucky Bernie’s Trivia Night Huntley IL. Think you have the brains to beat everyone? Bring your friends and show them what you’ve got. We’re giving away prizes to winners so don’t be shy.
URL:https://luckybernies.com/event/trivia-night-huntley-il/2019-01-22/
LOCATION:Lucky Bernie’s Huntley\, 9810 N. State Rt. 47\, Huntley\, IL\, 60142\, United States
CATEGORIES:Trivia
ATTACH;FMTTYPE=image/png:https://luckybernies.com/wp-content/uploads/2019/01/lucky-bernies-trivia-night-tuesdays.png
GEO:42.1858856;-88.421364
X-APPLE-STRUCTURED-LOCATION;VALUE=URI;X-ADDRESS=Lucky Bernie’s Huntley 9810 N. State Rt. 47 Huntley IL 60142 United States;X-APPLE-RADIUS=500;X-TITLE=9810 N. State Rt. 47:geo:-88.421364,42.1858856
END:VEVENT
END:VCALENDAR