BEGIN:VCALENDAR
VERSION:2.0
PRODID:-//Lucky Bernie&#039;s - ECPv6.3.7//NONSGML v1.0//EN
CALSCALE:GREGORIAN
METHOD:PUBLISH
X-WR-CALNAME:Lucky Bernie&#039;s
X-ORIGINAL-URL:https://luckybernies.com
X-WR-CALDESC:Events for Lucky Bernie&#039;s
REFRESH-INTERVAL;VALUE=DURATION:PT1H
X-Robots-Tag:noindex
X-PUBLISHED-TTL:PT1H
BEGIN:VTIMEZONE
TZID:America/Chicago
BEGIN:DAYLIGHT
TZOFFSETFROM:-0600
TZOFFSETTO:-0500
TZNAME:CDT
DTSTART:20190310T080000
END:DAYLIGHT
BEGIN:STANDARD
TZOFFSETFROM:-0500
TZOFFSETTO:-0600
TZNAME:CST
DTSTART:20191103T070000
END:STANDARD
END:VTIMEZONE
BEGIN:VEVENT
DTSTART;TZID=America/Chicago:20190503T190000
DTEND;TZID=America/Chicago:20190503T220000
DTSTAMP:20260425T134013
CREATED:20190429T163953Z
LAST-MODIFIED:20190429T165239Z
UID:2521-1556910000-1556920800@luckybernies.com
SUMMARY:Just Jake in Huntley
DESCRIPTION:
URL:https://luckybernies.com/event/just-jake-at-woodstock-2/
LOCATION:Lucky Bernie’s Huntley\, 9810 N. State Rt. 47\, Huntley\, IL\, 60142\, United States
CATEGORIES:Live Music
ATTACH;FMTTYPE=image/jpeg:https://luckybernies.com/wp-content/uploads/2018/02/lucky-bernies-live-music.jpg
GEO:42.1858856;-88.421364
X-APPLE-STRUCTURED-LOCATION;VALUE=URI;X-ADDRESS=Lucky Bernie’s Huntley 9810 N. State Rt. 47 Huntley IL 60142 United States;X-APPLE-RADIUS=500;X-TITLE=9810 N. State Rt. 47:geo:-88.421364,42.1858856
END:VEVENT
BEGIN:VEVENT
DTSTART;TZID=America/Chicago:20190503T193000
DTEND;TZID=America/Chicago:20190503T223000
DTSTAMP:20260425T134013
CREATED:20190429T164654Z
LAST-MODIFIED:20190429T164654Z
UID:2532-1556911800-1556922600@luckybernies.com
SUMMARY:Bailey Evert in Woodstock
DESCRIPTION:
URL:https://luckybernies.com/event/bailey-evert-in-woodstock/
LOCATION:Lucky Bernies Woodstock\, 11605 Catalpa Ln\, Woodstock\,\, IL\, 60098\, United States
CATEGORIES:Live Music
ATTACH;FMTTYPE=image/jpeg:https://luckybernies.com/wp-content/uploads/2018/02/lucky-bernies-live-music.jpg
GEO:42.2946704;-88.4286595
X-APPLE-STRUCTURED-LOCATION;VALUE=URI;X-ADDRESS=Lucky Bernies Woodstock 11605 Catalpa Ln Woodstock IL 60098 United States;X-APPLE-RADIUS=500;X-TITLE=11605 Catalpa Ln:geo:-88.4286595,42.2946704
END:VEVENT
END:VCALENDAR