BEGIN:VCALENDAR
VERSION:2.0
PRODID:-//Lucky Bernie&#039;s - ECPv6.3.7//NONSGML v1.0//EN
CALSCALE:GREGORIAN
METHOD:PUBLISH
X-WR-CALNAME:Lucky Bernie&#039;s
X-ORIGINAL-URL:https://luckybernies.com
X-WR-CALDESC:Events for Lucky Bernie&#039;s
REFRESH-INTERVAL;VALUE=DURATION:PT1H
X-Robots-Tag:noindex
X-PUBLISHED-TTL:PT1H
BEGIN:VTIMEZONE
TZID:America/Chicago
BEGIN:DAYLIGHT
TZOFFSETFROM:-0600
TZOFFSETTO:-0500
TZNAME:CDT
DTSTART:20190310T080000
END:DAYLIGHT
BEGIN:STANDARD
TZOFFSETFROM:-0500
TZOFFSETTO:-0600
TZNAME:CST
DTSTART:20191103T070000
END:STANDARD
END:VTIMEZONE
BEGIN:VEVENT
DTSTART;TZID=America/Chicago:20190728T140000
DTEND;TZID=America/Chicago:20190728T160000
DTSTAMP:20260425T102133
CREATED:20190722T145337Z
LAST-MODIFIED:20190722T145337Z
UID:2740-1564322400-1564329600@luckybernies.com
SUMMARY:Crafting for a Cause
DESCRIPTION:CRAFTING for a CAUSE is a monthly event. The money donated by people for making a craft\, with supplies and instructions will go to someone or organization in need of help with funding.
URL:https://luckybernies.com/event/crafting-for-a-cause/2019-07-28/
LOCATION:Lucky Bernies Spring Grove\, 2450 U.S. 12\, Spring Grove\, IL\, 60081\, United States
CATEGORIES:Art
ATTACH;FMTTYPE=image/jpeg:https://luckybernies.com/wp-content/uploads/2019/07/Screenshot_2019-07-06-17-41-51-01.jpeg
GEO:42.4376647;-88.2451018
X-APPLE-STRUCTURED-LOCATION;VALUE=URI;X-ADDRESS=Lucky Bernies Spring Grove 2450 U.S. 12 Spring Grove IL 60081 United States;X-APPLE-RADIUS=500;X-TITLE=2450 U.S. 12:geo:-88.2451018,42.4376647
END:VEVENT
END:VCALENDAR