BEGIN:VCALENDAR
VERSION:2.0
PRODID:-//Lucky Bernie&#039;s - ECPv6.3.7//NONSGML v1.0//EN
CALSCALE:GREGORIAN
METHOD:PUBLISH
X-ORIGINAL-URL:https://luckybernies.com
X-WR-CALDESC:Events for Lucky Bernie&#039;s
REFRESH-INTERVAL;VALUE=DURATION:PT1H
X-Robots-Tag:noindex
X-PUBLISHED-TTL:PT1H
BEGIN:VTIMEZONE
TZID:America/Chicago
BEGIN:DAYLIGHT
TZOFFSETFROM:-0600
TZOFFSETTO:-0500
TZNAME:CDT
DTSTART:20190310T080000
END:DAYLIGHT
BEGIN:STANDARD
TZOFFSETFROM:-0500
TZOFFSETTO:-0600
TZNAME:CST
DTSTART:20191103T070000
END:STANDARD
END:VTIMEZONE
BEGIN:VEVENT
DTSTART;TZID=America/Chicago:20190906T183000
DTEND;TZID=America/Chicago:20190906T213000
DTSTAMP:20260425T070003
CREATED:20190828T162309Z
LAST-MODIFIED:20190828T162309Z
UID:3080-1567794600-1567805400@luckybernies.com
SUMMARY:John Ballantyne performing in Spring Grove
DESCRIPTION:
URL:https://luckybernies.com/event/john-ballantyne-performing-in-spring-grove/
LOCATION:Lucky Bernies Spring Grove\, 2450 U.S. 12\, Spring Grove\, IL\, 60081\, United States
CATEGORIES:Live Music
ATTACH;FMTTYPE=image/jpeg:https://luckybernies.com/wp-content/uploads/2018/02/lucky-bernies-live-music.jpg
GEO:42.4376647;-88.2451018
X-APPLE-STRUCTURED-LOCATION;VALUE=URI;X-ADDRESS=Lucky Bernies Spring Grove 2450 U.S. 12 Spring Grove IL 60081 United States;X-APPLE-RADIUS=500;X-TITLE=2450 U.S. 12:geo:-88.2451018,42.4376647
END:VEVENT
BEGIN:VEVENT
DTSTART;TZID=America/Chicago:20190906T190000
DTEND;TZID=America/Chicago:20190906T220000
DTSTAMP:20260425T070003
CREATED:20190828T163743Z
LAST-MODIFIED:20190828T163743Z
UID:3088-1567796400-1567807200@luckybernies.com
SUMMARY:Aidan Seaver in Huntley
DESCRIPTION:
URL:https://luckybernies.com/event/aidan-seaver-in-huntley/
LOCATION:Lucky Bernie’s Huntley\, 9810 N. State Rt. 47\, Huntley\, IL\, 60142\, United States
CATEGORIES:Live Music
ATTACH;FMTTYPE=image/jpeg:https://luckybernies.com/wp-content/uploads/2018/02/lucky-bernies-live-music.jpg
GEO:42.1858856;-88.421364
X-APPLE-STRUCTURED-LOCATION;VALUE=URI;X-ADDRESS=Lucky Bernie’s Huntley 9810 N. State Rt. 47 Huntley IL 60142 United States;X-APPLE-RADIUS=500;X-TITLE=9810 N. State Rt. 47:geo:-88.421364,42.1858856
END:VEVENT
BEGIN:VEVENT
DTSTART;TZID=America/Chicago:20190906T193000
DTEND;TZID=America/Chicago:20190906T223000
DTSTAMP:20260425T070003
CREATED:20190828T165015Z
LAST-MODIFIED:20190828T165015Z
UID:3096-1567798200-1567809000@luckybernies.com
SUMMARY:Bailey Evert in Woodstock
DESCRIPTION:
URL:https://luckybernies.com/event/bailey-evert-in-woodstock-2/
LOCATION:Lucky Bernies Woodstock\, 11605 Catalpa Ln\, Woodstock\,\, IL\, 60098\, United States
CATEGORIES:Live Music
ATTACH;FMTTYPE=image/jpeg:https://luckybernies.com/wp-content/uploads/2018/02/lucky-bernies-live-music.jpg
GEO:42.2946704;-88.4286595
X-APPLE-STRUCTURED-LOCATION;VALUE=URI;X-ADDRESS=Lucky Bernies Woodstock 11605 Catalpa Ln Woodstock IL 60098 United States;X-APPLE-RADIUS=500;X-TITLE=11605 Catalpa Ln:geo:-88.4286595,42.2946704
END:VEVENT
END:VCALENDAR