BEGIN:VCALENDAR
VERSION:2.0
PRODID:-//Lucky Bernie&#039;s - ECPv6.3.7//NONSGML v1.0//EN
CALSCALE:GREGORIAN
METHOD:PUBLISH
X-WR-CALNAME:Lucky Bernie&#039;s
X-ORIGINAL-URL:https://luckybernies.com
X-WR-CALDESC:Events for Lucky Bernie&#039;s
REFRESH-INTERVAL;VALUE=DURATION:PT1H
X-Robots-Tag:noindex
X-PUBLISHED-TTL:PT1H
BEGIN:VTIMEZONE
TZID:America/Chicago
BEGIN:DAYLIGHT
TZOFFSETFROM:-0600
TZOFFSETTO:-0500
TZNAME:CDT
DTSTART:20190310T080000
END:DAYLIGHT
BEGIN:STANDARD
TZOFFSETFROM:-0500
TZOFFSETTO:-0600
TZNAME:CST
DTSTART:20191103T070000
END:STANDARD
END:VTIMEZONE
BEGIN:VEVENT
DTSTART;TZID=America/Chicago:20190809T183000
DTEND;TZID=America/Chicago:20190809T213000
DTSTAMP:20260425T102443
CREATED:20190730T010111Z
LAST-MODIFIED:20190730T010111Z
UID:2755-1565375400-1565386200@luckybernies.com
SUMMARY:Mary Lai at Spring Grove
DESCRIPTION:
URL:https://luckybernies.com/event/mary-lai-at-spring-grove/
LOCATION:Lucky Bernies Spring Grove\, 2450 U.S. 12\, Spring Grove\, IL\, 60081\, United States
CATEGORIES:Live Music
ATTACH;FMTTYPE=image/jpeg:https://luckybernies.com/wp-content/uploads/2018/02/lucky-bernies-live-music.jpg
GEO:42.4376647;-88.2451018
X-APPLE-STRUCTURED-LOCATION;VALUE=URI;X-ADDRESS=Lucky Bernies Spring Grove 2450 U.S. 12 Spring Grove IL 60081 United States;X-APPLE-RADIUS=500;X-TITLE=2450 U.S. 12:geo:-88.2451018,42.4376647
END:VEVENT
BEGIN:VEVENT
DTSTART;TZID=America/Chicago:20190809T190000
DTEND;TZID=America/Chicago:20190809T220000
DTSTAMP:20260425T102443
CREATED:20190730T010711Z
LAST-MODIFIED:20190730T010711Z
UID:2765-1565377200-1565388000@luckybernies.com
SUMMARY:Carter Hoyt at Huntley
DESCRIPTION:
URL:https://luckybernies.com/event/carter-hoyt-at-huntley-2/
LOCATION:Lucky Bernie’s Huntley\, 9810 N. State Rt. 47\, Huntley\, IL\, 60142\, United States
CATEGORIES:Live Music
ATTACH;FMTTYPE=image/jpeg:https://luckybernies.com/wp-content/uploads/2018/02/lucky-bernies-live-music.jpg
GEO:42.1858856;-88.421364
X-APPLE-STRUCTURED-LOCATION;VALUE=URI;X-ADDRESS=Lucky Bernie’s Huntley 9810 N. State Rt. 47 Huntley IL 60142 United States;X-APPLE-RADIUS=500;X-TITLE=9810 N. State Rt. 47:geo:-88.421364,42.1858856
END:VEVENT
BEGIN:VEVENT
DTSTART;TZID=America/Chicago:20190809T193000
DTEND;TZID=America/Chicago:20190809T223000
DTSTAMP:20260425T102443
CREATED:20190730T011224Z
LAST-MODIFIED:20190730T011224Z
UID:2775-1565379000-1565389800@luckybernies.com
SUMMARY:Mike Meilicke at Woodstock
DESCRIPTION:
URL:https://luckybernies.com/event/mike-meilicke-at-woodstock/
LOCATION:Lucky Bernies Woodstock\, 11605 Catalpa Ln\, Woodstock\,\, IL\, 60098\, United States
CATEGORIES:Live Music
ATTACH;FMTTYPE=image/jpeg:https://luckybernies.com/wp-content/uploads/2018/02/lucky-bernies-live-music.jpg
GEO:42.2946704;-88.4286595
X-APPLE-STRUCTURED-LOCATION;VALUE=URI;X-ADDRESS=Lucky Bernies Woodstock 11605 Catalpa Ln Woodstock IL 60098 United States;X-APPLE-RADIUS=500;X-TITLE=11605 Catalpa Ln:geo:-88.4286595,42.2946704
END:VEVENT
BEGIN:VEVENT
DTSTART;TZID=America/Chicago:20190810T200000
DTEND;TZID=America/Chicago:20190810T220000
DTSTAMP:20260425T102443
CREATED:20190722T143938Z
LAST-MODIFIED:20190722T143938Z
UID:2719-1565467200-1565474400@luckybernies.com
SUMMARY:Paint and Sip
DESCRIPTION:Looking for a relaxing way to spend an evening? Stop by for our Paint and Sip party. It’s a fun\, casual way to spend an evening sipping on your favorite drink and create you very own artwork. No experience is necessary. We will take you through the entire process from start to finish!
URL:https://luckybernies.com/event/paint-and-sip/2019-08-10/
LOCATION:Lucky Bernies Spring Grove\, 2450 U.S. 12\, Spring Grove\, IL\, 60081\, United States
CATEGORIES:Art
ATTACH;FMTTYPE=image/jpeg:https://luckybernies.com/wp-content/uploads/2019/07/20190123_125410-02.jpeg
GEO:42.4376647;-88.2451018
X-APPLE-STRUCTURED-LOCATION;VALUE=URI;X-ADDRESS=Lucky Bernies Spring Grove 2450 U.S. 12 Spring Grove IL 60081 United States;X-APPLE-RADIUS=500;X-TITLE=2450 U.S. 12:geo:-88.2451018,42.4376647
END:VEVENT
BEGIN:VEVENT
DTSTART;TZID=America/Chicago:20190816T183000
DTEND;TZID=America/Chicago:20190816T213000
DTSTAMP:20260425T102443
CREATED:20190730T010215Z
LAST-MODIFIED:20190730T010215Z
UID:2757-1565980200-1565991000@luckybernies.com
SUMMARY:Rotten Bros at Spring Grove
DESCRIPTION:
URL:https://luckybernies.com/event/rotten-bros-at-spring-grove-5/
LOCATION:Lucky Bernies Spring Grove\, 2450 U.S. 12\, Spring Grove\, IL\, 60081\, United States
CATEGORIES:Live Music
ATTACH;FMTTYPE=image/jpeg:https://luckybernies.com/wp-content/uploads/2018/02/lucky-bernies-live-music.jpg
GEO:42.4376647;-88.2451018
X-APPLE-STRUCTURED-LOCATION;VALUE=URI;X-ADDRESS=Lucky Bernies Spring Grove 2450 U.S. 12 Spring Grove IL 60081 United States;X-APPLE-RADIUS=500;X-TITLE=2450 U.S. 12:geo:-88.2451018,42.4376647
END:VEVENT
BEGIN:VEVENT
DTSTART;TZID=America/Chicago:20190816T190000
DTEND;TZID=America/Chicago:20190816T220000
DTSTAMP:20260425T102443
CREATED:20190730T010817Z
LAST-MODIFIED:20190730T010817Z
UID:2767-1565982000-1565992800@luckybernies.com
SUMMARY:Mary Lai at Huntley
DESCRIPTION:
URL:https://luckybernies.com/event/mary-lai-at-huntley-3/
LOCATION:Lucky Bernie’s Huntley\, 9810 N. State Rt. 47\, Huntley\, IL\, 60142\, United States
CATEGORIES:Live Music
ATTACH;FMTTYPE=image/jpeg:https://luckybernies.com/wp-content/uploads/2018/02/lucky-bernies-live-music.jpg
GEO:42.1858856;-88.421364
X-APPLE-STRUCTURED-LOCATION;VALUE=URI;X-ADDRESS=Lucky Bernie’s Huntley 9810 N. State Rt. 47 Huntley IL 60142 United States;X-APPLE-RADIUS=500;X-TITLE=9810 N. State Rt. 47:geo:-88.421364,42.1858856
END:VEVENT
BEGIN:VEVENT
DTSTART;TZID=America/Chicago:20190816T193000
DTEND;TZID=America/Chicago:20190816T223000
DTSTAMP:20260425T102443
CREATED:20190730T011324Z
LAST-MODIFIED:20190730T011324Z
UID:2777-1565983800-1565994600@luckybernies.com
SUMMARY:John Ballantyne at Woodstock
DESCRIPTION:
URL:https://luckybernies.com/event/john-ballantyne-at-woodstock-2/
LOCATION:Lucky Bernies Woodstock\, 11605 Catalpa Ln\, Woodstock\,\, IL\, 60098\, United States
CATEGORIES:Live Music
ATTACH;FMTTYPE=image/jpeg:https://luckybernies.com/wp-content/uploads/2018/02/lucky-bernies-live-music.jpg
GEO:42.2946704;-88.4286595
X-APPLE-STRUCTURED-LOCATION;VALUE=URI;X-ADDRESS=Lucky Bernies Woodstock 11605 Catalpa Ln Woodstock IL 60098 United States;X-APPLE-RADIUS=500;X-TITLE=11605 Catalpa Ln:geo:-88.4286595,42.2946704
END:VEVENT
BEGIN:VEVENT
DTSTART;TZID=America/Chicago:20190823T183000
DTEND;TZID=America/Chicago:20190823T213000
DTSTAMP:20260425T102443
CREATED:20190730T010344Z
LAST-MODIFIED:20190730T011802Z
UID:2759-1566585000-1566595800@luckybernies.com
SUMMARY:Just Jake at Spring Grove
DESCRIPTION:
URL:https://luckybernies.com/event/just-jake-at-spring-grove-4/
LOCATION:Lucky Bernies Spring Grove\, 2450 U.S. 12\, Spring Grove\, IL\, 60081\, United States
CATEGORIES:Live Music
ATTACH;FMTTYPE=image/jpeg:https://luckybernies.com/wp-content/uploads/2018/02/lucky-bernies-live-music.jpg
GEO:42.4376647;-88.2451018
X-APPLE-STRUCTURED-LOCATION;VALUE=URI;X-ADDRESS=Lucky Bernies Spring Grove 2450 U.S. 12 Spring Grove IL 60081 United States;X-APPLE-RADIUS=500;X-TITLE=2450 U.S. 12:geo:-88.2451018,42.4376647
END:VEVENT
BEGIN:VEVENT
DTSTART;TZID=America/Chicago:20190823T190000
DTEND;TZID=America/Chicago:20190823T220000
DTSTAMP:20260425T102443
CREATED:20190730T010925Z
LAST-MODIFIED:20190821T215635Z
UID:2769-1566586800-1566597600@luckybernies.com
SUMMARY:John Ballantyne at Huntley
DESCRIPTION:
URL:https://luckybernies.com/event/mighty-joe-at-huntley-2/
LOCATION:Lucky Bernie’s Huntley\, 9810 N. State Rt. 47\, Huntley\, IL\, 60142\, United States
CATEGORIES:Live Music
ATTACH;FMTTYPE=image/jpeg:https://luckybernies.com/wp-content/uploads/2018/02/lucky-bernies-live-music.jpg
GEO:42.1858856;-88.421364
X-APPLE-STRUCTURED-LOCATION;VALUE=URI;X-ADDRESS=Lucky Bernie’s Huntley 9810 N. State Rt. 47 Huntley IL 60142 United States;X-APPLE-RADIUS=500;X-TITLE=9810 N. State Rt. 47:geo:-88.421364,42.1858856
END:VEVENT
BEGIN:VEVENT
DTSTART;TZID=America/Chicago:20190823T193000
DTEND;TZID=America/Chicago:20190823T223000
DTSTAMP:20260425T102443
CREATED:20190730T011438Z
LAST-MODIFIED:20190730T011438Z
UID:2779-1566588600-1566599400@luckybernies.com
SUMMARY:Aidan Seaver at Woodstock
DESCRIPTION:
URL:https://luckybernies.com/event/aidan-seaver-at-woodstock/
LOCATION:Lucky Bernies Woodstock\, 11605 Catalpa Ln\, Woodstock\,\, IL\, 60098\, United States
CATEGORIES:Live Music
ATTACH;FMTTYPE=image/jpeg:https://luckybernies.com/wp-content/uploads/2018/02/lucky-bernies-live-music.jpg
GEO:42.2946704;-88.4286595
X-APPLE-STRUCTURED-LOCATION;VALUE=URI;X-ADDRESS=Lucky Bernies Woodstock 11605 Catalpa Ln Woodstock IL 60098 United States;X-APPLE-RADIUS=500;X-TITLE=11605 Catalpa Ln:geo:-88.4286595,42.2946704
END:VEVENT
BEGIN:VEVENT
DTSTART;TZID=America/Chicago:20190830T183000
DTEND;TZID=America/Chicago:20190830T213000
DTSTAMP:20260425T102443
CREATED:20190730T010456Z
LAST-MODIFIED:20190730T010456Z
UID:2761-1567189800-1567200600@luckybernies.com
SUMMARY:L&M Experience at Spring Grove
DESCRIPTION:
URL:https://luckybernies.com/event/lm-experience-at-spring-grove-2/
LOCATION:Lucky Bernies Spring Grove\, 2450 U.S. 12\, Spring Grove\, IL\, 60081\, United States
CATEGORIES:Live Music
ATTACH;FMTTYPE=image/jpeg:https://luckybernies.com/wp-content/uploads/2018/02/lucky-bernies-live-music.jpg
GEO:42.4376647;-88.2451018
X-APPLE-STRUCTURED-LOCATION;VALUE=URI;X-ADDRESS=Lucky Bernies Spring Grove 2450 U.S. 12 Spring Grove IL 60081 United States;X-APPLE-RADIUS=500;X-TITLE=2450 U.S. 12:geo:-88.2451018,42.4376647
END:VEVENT
BEGIN:VEVENT
DTSTART;TZID=America/Chicago:20190830T190000
DTEND;TZID=America/Chicago:20190830T220000
DTSTAMP:20260425T102443
CREATED:20190730T011016Z
LAST-MODIFIED:20190730T011016Z
UID:2771-1567191600-1567202400@luckybernies.com
SUMMARY:Rotten Bros at Huntley
DESCRIPTION:
URL:https://luckybernies.com/event/rotten-bros-at-huntley/
LOCATION:Lucky Bernie’s Huntley\, 9810 N. State Rt. 47\, Huntley\, IL\, 60142\, United States
CATEGORIES:Live Music
ATTACH;FMTTYPE=image/jpeg:https://luckybernies.com/wp-content/uploads/2018/02/lucky-bernies-live-music.jpg
GEO:42.1858856;-88.421364
X-APPLE-STRUCTURED-LOCATION;VALUE=URI;X-ADDRESS=Lucky Bernie’s Huntley 9810 N. State Rt. 47 Huntley IL 60142 United States;X-APPLE-RADIUS=500;X-TITLE=9810 N. State Rt. 47:geo:-88.421364,42.1858856
END:VEVENT
BEGIN:VEVENT
DTSTART;TZID=America/Chicago:20190830T193000
DTEND;TZID=America/Chicago:20190830T223000
DTSTAMP:20260425T102443
CREATED:20190730T011528Z
LAST-MODIFIED:20190821T220052Z
UID:2781-1567193400-1567204200@luckybernies.com
SUMMARY:Noah Evert at Woodstock
DESCRIPTION:
URL:https://luckybernies.com/event/just-jake-at-woodstock-3/
LOCATION:Lucky Bernies Woodstock\, 11605 Catalpa Ln\, Woodstock\,\, IL\, 60098\, United States
CATEGORIES:Open Mic
ATTACH;FMTTYPE=image/jpeg:https://luckybernies.com/wp-content/uploads/2018/02/lucky-bernies-live-music.jpg
GEO:42.2946704;-88.4286595
X-APPLE-STRUCTURED-LOCATION;VALUE=URI;X-ADDRESS=Lucky Bernies Woodstock 11605 Catalpa Ln Woodstock IL 60098 United States;X-APPLE-RADIUS=500;X-TITLE=11605 Catalpa Ln:geo:-88.4286595,42.2946704
END:VEVENT
BEGIN:VEVENT
DTSTART;TZID=America/Chicago:20190906T183000
DTEND;TZID=America/Chicago:20190906T213000
DTSTAMP:20260425T102443
CREATED:20190828T162309Z
LAST-MODIFIED:20190828T162309Z
UID:3080-1567794600-1567805400@luckybernies.com
SUMMARY:John Ballantyne performing in Spring Grove
DESCRIPTION:
URL:https://luckybernies.com/event/john-ballantyne-performing-in-spring-grove/
LOCATION:Lucky Bernies Spring Grove\, 2450 U.S. 12\, Spring Grove\, IL\, 60081\, United States
CATEGORIES:Live Music
ATTACH;FMTTYPE=image/jpeg:https://luckybernies.com/wp-content/uploads/2018/02/lucky-bernies-live-music.jpg
GEO:42.4376647;-88.2451018
X-APPLE-STRUCTURED-LOCATION;VALUE=URI;X-ADDRESS=Lucky Bernies Spring Grove 2450 U.S. 12 Spring Grove IL 60081 United States;X-APPLE-RADIUS=500;X-TITLE=2450 U.S. 12:geo:-88.2451018,42.4376647
END:VEVENT
BEGIN:VEVENT
DTSTART;TZID=America/Chicago:20190906T190000
DTEND;TZID=America/Chicago:20190906T220000
DTSTAMP:20260425T102443
CREATED:20190828T163743Z
LAST-MODIFIED:20190828T163743Z
UID:3088-1567796400-1567807200@luckybernies.com
SUMMARY:Aidan Seaver in Huntley
DESCRIPTION:
URL:https://luckybernies.com/event/aidan-seaver-in-huntley/
LOCATION:Lucky Bernie’s Huntley\, 9810 N. State Rt. 47\, Huntley\, IL\, 60142\, United States
CATEGORIES:Live Music
ATTACH;FMTTYPE=image/jpeg:https://luckybernies.com/wp-content/uploads/2018/02/lucky-bernies-live-music.jpg
GEO:42.1858856;-88.421364
X-APPLE-STRUCTURED-LOCATION;VALUE=URI;X-ADDRESS=Lucky Bernie’s Huntley 9810 N. State Rt. 47 Huntley IL 60142 United States;X-APPLE-RADIUS=500;X-TITLE=9810 N. State Rt. 47:geo:-88.421364,42.1858856
END:VEVENT
BEGIN:VEVENT
DTSTART;TZID=America/Chicago:20190906T193000
DTEND;TZID=America/Chicago:20190906T223000
DTSTAMP:20260425T102443
CREATED:20190828T165015Z
LAST-MODIFIED:20190828T165015Z
UID:3096-1567798200-1567809000@luckybernies.com
SUMMARY:Bailey Evert in Woodstock
DESCRIPTION:
URL:https://luckybernies.com/event/bailey-evert-in-woodstock-2/
LOCATION:Lucky Bernies Woodstock\, 11605 Catalpa Ln\, Woodstock\,\, IL\, 60098\, United States
CATEGORIES:Live Music
ATTACH;FMTTYPE=image/jpeg:https://luckybernies.com/wp-content/uploads/2018/02/lucky-bernies-live-music.jpg
GEO:42.2946704;-88.4286595
X-APPLE-STRUCTURED-LOCATION;VALUE=URI;X-ADDRESS=Lucky Bernies Woodstock 11605 Catalpa Ln Woodstock IL 60098 United States;X-APPLE-RADIUS=500;X-TITLE=11605 Catalpa Ln:geo:-88.4286595,42.2946704
END:VEVENT
BEGIN:VEVENT
DTSTART;TZID=America/Chicago:20190913T183000
DTEND;TZID=America/Chicago:20190913T213000
DTSTAMP:20260425T102443
CREATED:20190828T162445Z
LAST-MODIFIED:20190828T162859Z
UID:3082-1568399400-1568410200@luckybernies.com
SUMMARY:Amanda Leigh Karchmer in Spring Grove
DESCRIPTION:
URL:https://luckybernies.com/event/amanda-leigh-karchmer-in-spring-grove/
LOCATION:Lucky Bernies Spring Grove\, 2450 U.S. 12\, Spring Grove\, IL\, 60081\, United States
CATEGORIES:Live Music
ATTACH;FMTTYPE=image/jpeg:https://luckybernies.com/wp-content/uploads/2018/02/lucky-bernies-live-music.jpg
GEO:42.4376647;-88.2451018
X-APPLE-STRUCTURED-LOCATION;VALUE=URI;X-ADDRESS=Lucky Bernies Spring Grove 2450 U.S. 12 Spring Grove IL 60081 United States;X-APPLE-RADIUS=500;X-TITLE=2450 U.S. 12:geo:-88.2451018,42.4376647
END:VEVENT
BEGIN:VEVENT
DTSTART;TZID=America/Chicago:20190913T190000
DTEND;TZID=America/Chicago:20190913T220000
DTSTAMP:20260425T102443
CREATED:20190828T163856Z
LAST-MODIFIED:20190828T163856Z
UID:3090-1568401200-1568412000@luckybernies.com
SUMMARY:Mary Lai in Huntley
DESCRIPTION:
URL:https://luckybernies.com/event/mary-lai-in-huntley-2/
LOCATION:Lucky Bernie’s Huntley\, 9810 N. State Rt. 47\, Huntley\, IL\, 60142\, United States
CATEGORIES:Live Music
ATTACH;FMTTYPE=image/jpeg:https://luckybernies.com/wp-content/uploads/2018/02/lucky-bernies-live-music.jpg
GEO:42.1858856;-88.421364
X-APPLE-STRUCTURED-LOCATION;VALUE=URI;X-ADDRESS=Lucky Bernie’s Huntley 9810 N. State Rt. 47 Huntley IL 60142 United States;X-APPLE-RADIUS=500;X-TITLE=9810 N. State Rt. 47:geo:-88.421364,42.1858856
END:VEVENT
BEGIN:VEVENT
DTSTART;TZID=America/Chicago:20190913T193000
DTEND;TZID=America/Chicago:20190913T223000
DTSTAMP:20260425T102443
CREATED:20190828T165214Z
LAST-MODIFIED:20190828T165214Z
UID:3098-1568403000-1568413800@luckybernies.com
SUMMARY:Mighty Joe in Woodstock
DESCRIPTION:
URL:https://luckybernies.com/event/mighty-joe-in-woodstock-2/
LOCATION:Lucky Bernies Woodstock\, 11605 Catalpa Ln\, Woodstock\,\, IL\, 60098\, United States
CATEGORIES:Live Music
ATTACH;FMTTYPE=image/jpeg:https://luckybernies.com/wp-content/uploads/2018/02/lucky-bernies-live-music.jpg
GEO:42.2946704;-88.4286595
X-APPLE-STRUCTURED-LOCATION;VALUE=URI;X-ADDRESS=Lucky Bernies Woodstock 11605 Catalpa Ln Woodstock IL 60098 United States;X-APPLE-RADIUS=500;X-TITLE=11605 Catalpa Ln:geo:-88.4286595,42.2946704
END:VEVENT
BEGIN:VEVENT
DTSTART;TZID=America/Chicago:20190920T183000
DTEND;TZID=America/Chicago:20190920T213000
DTSTAMP:20260425T102443
CREATED:20190828T163041Z
LAST-MODIFIED:20190828T163041Z
UID:3084-1569004200-1569015000@luckybernies.com
SUMMARY:Sean Godvik in Spring Grove
DESCRIPTION:
URL:https://luckybernies.com/event/sean-godvik-in-spring-grove/
LOCATION:Lucky Bernies Spring Grove\, 2450 U.S. 12\, Spring Grove\, IL\, 60081\, United States
CATEGORIES:Live Music
ATTACH;FMTTYPE=image/jpeg:https://luckybernies.com/wp-content/uploads/2018/02/lucky-bernies-live-music.jpg
GEO:42.4376647;-88.2451018
X-APPLE-STRUCTURED-LOCATION;VALUE=URI;X-ADDRESS=Lucky Bernies Spring Grove 2450 U.S. 12 Spring Grove IL 60081 United States;X-APPLE-RADIUS=500;X-TITLE=2450 U.S. 12:geo:-88.2451018,42.4376647
END:VEVENT
BEGIN:VEVENT
DTSTART;TZID=America/Chicago:20190920T190000
DTEND;TZID=America/Chicago:20190920T220000
DTSTAMP:20260425T102443
CREATED:20190828T164110Z
LAST-MODIFIED:20190828T164110Z
UID:3092-1569006000-1569016800@luckybernies.com
SUMMARY:Rick Venn in Huntley
DESCRIPTION:
URL:https://luckybernies.com/event/rick-venn-in-huntley-2/
LOCATION:Lucky Bernie’s Huntley\, 9810 N. State Rt. 47\, Huntley\, IL\, 60142\, United States
CATEGORIES:Live Music
ATTACH;FMTTYPE=image/jpeg:https://luckybernies.com/wp-content/uploads/2018/02/lucky-bernies-live-music.jpg
GEO:42.1858856;-88.421364
X-APPLE-STRUCTURED-LOCATION;VALUE=URI;X-ADDRESS=Lucky Bernie’s Huntley 9810 N. State Rt. 47 Huntley IL 60142 United States;X-APPLE-RADIUS=500;X-TITLE=9810 N. State Rt. 47:geo:-88.421364,42.1858856
END:VEVENT
BEGIN:VEVENT
DTSTART;TZID=America/Chicago:20190920T193000
DTEND;TZID=America/Chicago:20190920T223000
DTSTAMP:20260425T102443
CREATED:20190828T172001Z
LAST-MODIFIED:20190828T172001Z
UID:3100-1569007800-1569018600@luckybernies.com
SUMMARY:Just Jake in Woodstock
DESCRIPTION:
URL:https://luckybernies.com/event/just-jake-in-woodstock/
LOCATION:Lucky Bernies Woodstock\, 11605 Catalpa Ln\, Woodstock\,\, IL\, 60098\, United States
CATEGORIES:Live Music
ATTACH;FMTTYPE=image/jpeg:https://luckybernies.com/wp-content/uploads/2018/02/lucky-bernies-live-music.jpg
GEO:42.2946704;-88.4286595
X-APPLE-STRUCTURED-LOCATION;VALUE=URI;X-ADDRESS=Lucky Bernies Woodstock 11605 Catalpa Ln Woodstock IL 60098 United States;X-APPLE-RADIUS=500;X-TITLE=11605 Catalpa Ln:geo:-88.4286595,42.2946704
END:VEVENT
BEGIN:VEVENT
DTSTART;TZID=America/Chicago:20190927T183000
DTEND;TZID=America/Chicago:20190927T213000
DTSTAMP:20260425T102443
CREATED:20190828T163149Z
LAST-MODIFIED:20190828T163626Z
UID:3086-1569609000-1569619800@luckybernies.com
SUMMARY:Rotten Bros. in Spring Grove
DESCRIPTION:
URL:https://luckybernies.com/event/rotten-bros-in-spring-grove/
LOCATION:Lucky Bernies Spring Grove\, 2450 U.S. 12\, Spring Grove\, IL\, 60081\, United States
CATEGORIES:Live Music
ATTACH;FMTTYPE=image/jpeg:https://luckybernies.com/wp-content/uploads/2018/02/lucky-bernies-live-music.jpg
GEO:42.4376647;-88.2451018
X-APPLE-STRUCTURED-LOCATION;VALUE=URI;X-ADDRESS=Lucky Bernies Spring Grove 2450 U.S. 12 Spring Grove IL 60081 United States;X-APPLE-RADIUS=500;X-TITLE=2450 U.S. 12:geo:-88.2451018,42.4376647
END:VEVENT
BEGIN:VEVENT
DTSTART;TZID=America/Chicago:20190927T190000
DTEND;TZID=America/Chicago:20190927T220000
DTSTAMP:20260425T102443
CREATED:20190828T164434Z
LAST-MODIFIED:20190828T164434Z
UID:3094-1569610800-1569621600@luckybernies.com
SUMMARY:Mike Meilicke in Huntley
DESCRIPTION:
URL:https://luckybernies.com/event/mike-meilicke-in-huntley/
LOCATION:Lucky Bernie’s Huntley\, 9810 N. State Rt. 47\, Huntley\, IL\, 60142\, United States
CATEGORIES:Live Music
ATTACH;FMTTYPE=image/jpeg:https://luckybernies.com/wp-content/uploads/2018/02/lucky-bernies-live-music.jpg
GEO:42.1858856;-88.421364
X-APPLE-STRUCTURED-LOCATION;VALUE=URI;X-ADDRESS=Lucky Bernie’s Huntley 9810 N. State Rt. 47 Huntley IL 60142 United States;X-APPLE-RADIUS=500;X-TITLE=9810 N. State Rt. 47:geo:-88.421364,42.1858856
END:VEVENT
BEGIN:VEVENT
DTSTART;TZID=America/Chicago:20190927T193000
DTEND;TZID=America/Chicago:20190927T223000
DTSTAMP:20260425T102443
CREATED:20190828T172201Z
LAST-MODIFIED:20190828T172201Z
UID:3102-1569612600-1569623400@luckybernies.com
SUMMARY:John Ballantyne in Woodstock
DESCRIPTION:
URL:https://luckybernies.com/event/john-ballantyne-in-woodstock/
LOCATION:Lucky Bernies Woodstock\, 11605 Catalpa Ln\, Woodstock\,\, IL\, 60098\, United States
CATEGORIES:Live Music
ATTACH;FMTTYPE=image/jpeg:https://luckybernies.com/wp-content/uploads/2018/02/lucky-bernies-live-music.jpg
GEO:42.2946704;-88.4286595
X-APPLE-STRUCTURED-LOCATION;VALUE=URI;X-ADDRESS=Lucky Bernies Woodstock 11605 Catalpa Ln Woodstock IL 60098 United States;X-APPLE-RADIUS=500;X-TITLE=11605 Catalpa Ln:geo:-88.4286595,42.2946704
END:VEVENT
BEGIN:VEVENT
DTSTART;TZID=America/Chicago:20191004T183000
DTEND;TZID=America/Chicago:20191004T213000
DTSTAMP:20260425T102443
CREATED:20190929T220351Z
LAST-MODIFIED:20190929T222941Z
UID:3613-1570213800-1570224600@luckybernies.com
SUMMARY:L&M Experience performing in Spring Grove
DESCRIPTION:
URL:https://luckybernies.com/event/lm-experience-performing/
LOCATION:Lucky Bernies Spring Grove\, 2450 U.S. 12\, Spring Grove\, IL\, 60081\, United States
CATEGORIES:Live Music
ATTACH;FMTTYPE=image/jpeg:https://luckybernies.com/wp-content/uploads/2018/02/lucky-bernies-live-music.jpg
GEO:42.4376647;-88.2451018
X-APPLE-STRUCTURED-LOCATION;VALUE=URI;X-ADDRESS=Lucky Bernies Spring Grove 2450 U.S. 12 Spring Grove IL 60081 United States;X-APPLE-RADIUS=500;X-TITLE=2450 U.S. 12:geo:-88.2451018,42.4376647
END:VEVENT
BEGIN:VEVENT
DTSTART;TZID=America/Chicago:20191004T190000
DTEND;TZID=America/Chicago:20191004T220000
DTSTAMP:20260425T102443
CREATED:20190929T220458Z
LAST-MODIFIED:20190929T220458Z
UID:3615-1570215600-1570226400@luckybernies.com
SUMMARY:TR Kerth performing in Huntley
DESCRIPTION:
URL:https://luckybernies.com/event/tr-kerth-performing-in-huntley/
LOCATION:Lucky Bernie’s Huntley\, 9810 N. State Rt. 47\, Huntley\, IL\, 60142\, United States
CATEGORIES:Live Music
ATTACH;FMTTYPE=image/jpeg:https://luckybernies.com/wp-content/uploads/2018/02/lucky-bernies-live-music.jpg
GEO:42.1858856;-88.421364
X-APPLE-STRUCTURED-LOCATION;VALUE=URI;X-ADDRESS=Lucky Bernie’s Huntley 9810 N. State Rt. 47 Huntley IL 60142 United States;X-APPLE-RADIUS=500;X-TITLE=9810 N. State Rt. 47:geo:-88.421364,42.1858856
END:VEVENT
BEGIN:VEVENT
DTSTART;TZID=America/Chicago:20191004T193000
DTEND;TZID=America/Chicago:20191004T223000
DTSTAMP:20260425T102443
CREATED:20190929T220600Z
LAST-MODIFIED:20190929T220600Z
UID:3617-1570217400-1570228200@luckybernies.com
SUMMARY:Mary Lai performing in Woodstock
DESCRIPTION:
URL:https://luckybernies.com/event/mary-lai-performing-in-woodstock/
LOCATION:Lucky Bernies Woodstock\, 11605 Catalpa Ln\, Woodstock\,\, IL\, 60098\, United States
CATEGORIES:Live Music
ATTACH;FMTTYPE=image/jpeg:https://luckybernies.com/wp-content/uploads/2018/02/lucky-bernies-live-music.jpg
GEO:42.2946704;-88.4286595
X-APPLE-STRUCTURED-LOCATION;VALUE=URI;X-ADDRESS=Lucky Bernies Woodstock 11605 Catalpa Ln Woodstock IL 60098 United States;X-APPLE-RADIUS=500;X-TITLE=11605 Catalpa Ln:geo:-88.4286595,42.2946704
END:VEVENT
BEGIN:VEVENT
DTSTART;TZID=America/Chicago:20191011T183000
DTEND;TZID=America/Chicago:20191011T213000
DTSTAMP:20260425T102443
CREATED:20190929T220700Z
LAST-MODIFIED:20190929T220700Z
UID:3619-1570818600-1570829400@luckybernies.com
SUMMARY:Sean Godvik performing in Spring Grove
DESCRIPTION:
URL:https://luckybernies.com/event/sean-godvik-performing-in-spring-grove/
LOCATION:Lucky Bernies Spring Grove\, 2450 U.S. 12\, Spring Grove\, IL\, 60081\, United States
CATEGORIES:Live Music
ATTACH;FMTTYPE=image/jpeg:https://luckybernies.com/wp-content/uploads/2018/02/lucky-bernies-live-music.jpg
GEO:42.4376647;-88.2451018
X-APPLE-STRUCTURED-LOCATION;VALUE=URI;X-ADDRESS=Lucky Bernies Spring Grove 2450 U.S. 12 Spring Grove IL 60081 United States;X-APPLE-RADIUS=500;X-TITLE=2450 U.S. 12:geo:-88.2451018,42.4376647
END:VEVENT
BEGIN:VEVENT
DTSTART;TZID=America/Chicago:20191011T190000
DTEND;TZID=America/Chicago:20191011T220000
DTSTAMP:20260425T102443
CREATED:20190929T220804Z
LAST-MODIFIED:20190929T220804Z
UID:3621-1570820400-1570831200@luckybernies.com
SUMMARY:Just Jake performing in Huntley
DESCRIPTION:
URL:https://luckybernies.com/event/just-jake-performing-in-huntley/
LOCATION:Lucky Bernie’s Huntley\, 9810 N. State Rt. 47\, Huntley\, IL\, 60142\, United States
CATEGORIES:Live Music
ATTACH;FMTTYPE=image/jpeg:https://luckybernies.com/wp-content/uploads/2018/02/lucky-bernies-live-music.jpg
GEO:42.1858856;-88.421364
X-APPLE-STRUCTURED-LOCATION;VALUE=URI;X-ADDRESS=Lucky Bernie’s Huntley 9810 N. State Rt. 47 Huntley IL 60142 United States;X-APPLE-RADIUS=500;X-TITLE=9810 N. State Rt. 47:geo:-88.421364,42.1858856
END:VEVENT
END:VCALENDAR