BEGIN:VCALENDAR
VERSION:2.0
PRODID:-//Lucky Bernie&#039;s - ECPv6.3.7//NONSGML v1.0//EN
CALSCALE:GREGORIAN
METHOD:PUBLISH
X-ORIGINAL-URL:https://luckybernies.com
X-WR-CALDESC:Events for Lucky Bernie&#039;s
REFRESH-INTERVAL;VALUE=DURATION:PT1H
X-Robots-Tag:noindex
X-PUBLISHED-TTL:PT1H
BEGIN:VTIMEZONE
TZID:America/Chicago
BEGIN:DAYLIGHT
TZOFFSETFROM:-0600
TZOFFSETTO:-0500
TZNAME:CDT
DTSTART:20210314T080000
END:DAYLIGHT
BEGIN:STANDARD
TZOFFSETFROM:-0500
TZOFFSETTO:-0600
TZNAME:CST
DTSTART:20211107T070000
END:STANDARD
END:VTIMEZONE
BEGIN:VEVENT
DTSTART;TZID=America/Chicago:20210417T190000
DTEND;TZID=America/Chicago:20210417T230000
DTSTAMP:20260423T155002
CREATED:20210405T204537Z
LAST-MODIFIED:20210405T205034Z
UID:7500-1618686000-1618700400@luckybernies.com
SUMMARY:Lucky Bernie's Night of Comedy
DESCRIPTION:Comedy night with Anthony Fuentes. $10 tickets. Dress to impress!\n$2.00 Domestics|$3.00 UCall it’s|$5.00 Sangrais|$10.00 Pizzas
URL:https://luckybernies.com/event/lucky-bernies-night-of-comedy/
LOCATION:Lucky Bernies Woodstock\, 11605 Catalpa Ln\, Woodstock\,\, IL\, 60098\, United States
ATTACH;FMTTYPE=image/jpeg:https://luckybernies.com/wp-content/uploads/2021/04/Comedy-show-Woodstock_04.17.21.jpg
GEO:42.2946704;-88.4286595
X-APPLE-STRUCTURED-LOCATION;VALUE=URI;X-ADDRESS=Lucky Bernies Woodstock 11605 Catalpa Ln Woodstock IL 60098 United States;X-APPLE-RADIUS=500;X-TITLE=11605 Catalpa Ln:geo:-88.4286595,42.2946704
END:VEVENT
END:VCALENDAR