BEGIN:VCALENDAR
VERSION:2.0
PRODID:-//Lucky Bernie&#039;s - ECPv6.3.7//NONSGML v1.0//EN
CALSCALE:GREGORIAN
METHOD:PUBLISH
X-WR-CALNAME:Lucky Bernie&#039;s
X-ORIGINAL-URL:https://luckybernies.com
X-WR-CALDESC:Events for Lucky Bernie&#039;s
REFRESH-INTERVAL;VALUE=DURATION:PT1H
X-Robots-Tag:noindex
X-PUBLISHED-TTL:PT1H
BEGIN:VTIMEZONE
TZID:America/Chicago
BEGIN:DAYLIGHT
TZOFFSETFROM:-0600
TZOFFSETTO:-0500
TZNAME:CDT
DTSTART:20170312T080000
END:DAYLIGHT
BEGIN:STANDARD
TZOFFSETFROM:-0500
TZOFFSETTO:-0600
TZNAME:CST
DTSTART:20171105T070000
END:STANDARD
BEGIN:DAYLIGHT
TZOFFSETFROM:-0600
TZOFFSETTO:-0500
TZNAME:CDT
DTSTART:20180311T080000
END:DAYLIGHT
BEGIN:STANDARD
TZOFFSETFROM:-0500
TZOFFSETTO:-0600
TZNAME:CST
DTSTART:20181104T070000
END:STANDARD
END:VTIMEZONE
BEGIN:VEVENT
DTSTART;TZID=America/Chicago:20180504T183000
DTEND;TZID=America/Chicago:20180504T213000
DTSTAMP:20260425T232854
CREATED:20171205T013422Z
LAST-MODIFIED:20181029T234235Z
UID:1729-1525458600-1525469400@luckybernies.com
SUMMARY:Mary Lai - Lucky Bernie's Spring Grove
DESCRIPTION:Come watch Mary Lai play live at Lucky Bernie’s in Spring Grove.
URL:https://luckybernies.com/event/mary-lai-lucky-bernies-spring-grove/2018-05-04/
LOCATION:Lucky Bernies Spring Grove\, 2450 U.S. 12\, Spring Grove\, IL\, 60081\, United States
CATEGORIES:Live Music
ATTACH;FMTTYPE=image/jpeg:https://luckybernies.com/wp-content/uploads/2018/02/lucky-bernies-live-music.jpg
GEO:42.4376647;-88.2451018
X-APPLE-STRUCTURED-LOCATION;VALUE=URI;X-ADDRESS=Lucky Bernies Spring Grove 2450 U.S. 12 Spring Grove IL 60081 United States;X-APPLE-RADIUS=500;X-TITLE=2450 U.S. 12:geo:-88.2451018,42.4376647
END:VEVENT
BEGIN:VEVENT
DTSTART;TZID=America/Chicago:20180427T190000
DTEND;TZID=America/Chicago:20180427T220000
DTSTAMP:20260425T232854
CREATED:20180411T153526Z
LAST-MODIFIED:20180411T155433Z
UID:1645-1524855600-1524866400@luckybernies.com
SUMMARY:Kenny Jones - Huntley
DESCRIPTION:Come watch Kenny Jones play live at Lucky Bernie’s in Huntley IL.
URL:https://luckybernies.com/event/kenny-jones-huntley/
LOCATION:Lucky Bernie’s Huntley\, 9810 N. State Rt. 47\, Huntley\, IL\, 60142\, United States
CATEGORIES:Live Music
ATTACH;FMTTYPE=image/jpeg:https://luckybernies.com/wp-content/uploads/2018/02/lucky-bernies-live-music.jpg
GEO:42.1858856;-88.421364
X-APPLE-STRUCTURED-LOCATION;VALUE=URI;X-ADDRESS=Lucky Bernie’s Huntley 9810 N. State Rt. 47 Huntley IL 60142 United States;X-APPLE-RADIUS=500;X-TITLE=9810 N. State Rt. 47:geo:-88.421364,42.1858856
END:VEVENT
BEGIN:VEVENT
DTSTART;TZID=America/Chicago:20180424T200000
DTEND;TZID=America/Chicago:20180424T220000
DTSTAMP:20260425T232854
CREATED:20180411T165549Z
LAST-MODIFIED:20180411T165549Z
UID:1657-1524600000-1524607200@luckybernies.com
SUMMARY:Lucky Bernie’s Trivia Night – Huntly
DESCRIPTION:What’s an awesome way to spend an evening?\n Trivia Night at Lucky Bernie’s! WIN PRIZES!!! \nYour invited to Lucky Bernie’s trivia night. Think you have the brains to beat everyone? Bring your friends and show them what you’ve got. We’re giving away prizes to winners so don’t be shy. \nCome early to place your sandwich orders and enjoy $2 Domestic and Import Beers just for trivia participants!
URL:https://luckybernies.com/event/lucky-bernies-trivia-night-huntly/
LOCATION:Lucky Bernie’s Huntley\, 9810 N. State Rt. 47\, Huntley\, IL\, 60142\, United States
CATEGORIES:Karaoke
ATTACH;FMTTYPE=image/jpeg:https://luckybernies.com/wp-content/uploads/2018/04/trivia-night-huntley-fb-image.jpg
GEO:42.1858856;-88.421364
X-APPLE-STRUCTURED-LOCATION;VALUE=URI;X-ADDRESS=Lucky Bernie’s Huntley 9810 N. State Rt. 47 Huntley IL 60142 United States;X-APPLE-RADIUS=500;X-TITLE=9810 N. State Rt. 47:geo:-88.421364,42.1858856
END:VEVENT
BEGIN:VEVENT
DTSTART;TZID=America/Chicago:20180421T190000
DTEND;TZID=America/Chicago:20180421T210000
DTSTAMP:20260425T232854
CREATED:20180317T163412Z
LAST-MODIFIED:20180411T162222Z
UID:1518-1524337200-1524344400@luckybernies.com
SUMMARY:Spring Grove Comedy Show
DESCRIPTION:Headliner: Johnny Watson\nThe funnyman from New Jersey has performed superbly and consistently as a headliner at clubs and colleges throughout the world and has even garnered the respect of top moguls in the Hollywood scene. Johnny Watson is the “Nice guy” comedian who can play any- where and under any circumstance. \nCredits: Netflix\, Comedy Central\, and Fox \nAlso appearing T.M. Francis \nHe’s has toured all over the country and featured for TJ Miller and Dave Coulier. He is a regular in comedy clubs. His comedy is odd\, quirky\, and intellectually twisted. His perspective on daily events and his myriad of life experiences make you wonder if he is “not quite right.” There is something funny about the man…in both senses of the word.
URL:https://luckybernies.com/event/spring-grove-comedy-show/2018-04-21/
LOCATION:Lucky Bernies Spring Grove\, 2450 U.S. 12\, Spring Grove\, IL\, 60081\, United States
CATEGORIES:Comedy
ATTACH;FMTTYPE=image/jpeg:https://luckybernies.com/wp-content/uploads/2016/05/Lucky-Bernies-4-21-18-small.jpg
GEO:42.4376647;-88.2451018
X-APPLE-STRUCTURED-LOCATION;VALUE=URI;X-ADDRESS=Lucky Bernies Spring Grove 2450 U.S. 12 Spring Grove IL 60081 United States;X-APPLE-RADIUS=500;X-TITLE=2450 U.S. 12:geo:-88.2451018,42.4376647
END:VEVENT
BEGIN:VEVENT
DTSTART;TZID=America/Chicago:20180421T140000
DTEND;TZID=America/Chicago:20180421T210000
DTSTAMP:20260425T232854
CREATED:20180405T185556Z
LAST-MODIFIED:20180406T040255Z
UID:1558-1524319200-1524344400@luckybernies.com
SUMMARY:Lucky Bernie's Paint & Sip - Huntly
DESCRIPTION:Join us at Lucky Bernie’s Huntley for our Paint & Sip Party. Come on out and join the fun. Great fun for families and friends. Paint and canvas are supplied\, get ½ off your first glass of wine. Meat and cheese sampler are passed out. Starts at 2:00pm \nDates:\nApr. 21st May 19th\nJuly 21st Aug.18th \nIf you have any questions or need any further information\, contact Diane at 847-414-0587. Bring your friends and family.
URL:https://luckybernies.com/event/lucky-bernies-paint-sip-huntly/2018-04-21/
LOCATION:Lucky Bernie’s Huntley\, 9810 N. State Rt. 47\, Huntley\, IL\, 60142\, United States
CATEGORIES:Art,Wine
ATTACH;FMTTYPE=image/jpeg:https://luckybernies.com/wp-content/uploads/2018/04/paint-and-party-huntly.jpg
GEO:42.1858856;-88.421364
X-APPLE-STRUCTURED-LOCATION;VALUE=URI;X-ADDRESS=Lucky Bernie’s Huntley 9810 N. State Rt. 47 Huntley IL 60142 United States;X-APPLE-RADIUS=500;X-TITLE=9810 N. State Rt. 47:geo:-88.421364,42.1858856
END:VEVENT
BEGIN:VEVENT
DTSTART;TZID=America/Chicago:20180421T140000
DTEND;TZID=America/Chicago:20180421T210000
DTSTAMP:20260425T232854
CREATED:20180405T185532Z
LAST-MODIFIED:20180406T040218Z
UID:1562-1524319200-1524344400@luckybernies.com
SUMMARY:Lucky Bernie's Paint & Sip - Woodstock
DESCRIPTION:Join us at Lucky Bernie’s Huntley for our Paint & Sip Party. Come on out and join the fun. Great fun for families and friends. Paint and canvas are supplied\, get ½ off your first glass of wine. Meat and cheese sampler are passed out. Starts at 2:00pm \nDates:\nApr. 21st May 19th\nJuly 21st Aug.18th \nIf you have any questions or need any further information\, contact Diane at 847-414-0587. Bring your friends and family.
URL:https://luckybernies.com/event/lucky-bernies-paint-sip-woodstock/2018-04-21/
LOCATION:Lucky Bernies Woodstock\, 11605 Catalpa Ln\, Woodstock\,\, IL\, 60098\, United States
CATEGORIES:Art,Wine
ATTACH;FMTTYPE=image/jpeg:https://luckybernies.com/wp-content/uploads/2018/04/paint-and-party-woodstock.jpg
GEO:42.2946704;-88.4286595
X-APPLE-STRUCTURED-LOCATION;VALUE=URI;X-ADDRESS=Lucky Bernies Woodstock 11605 Catalpa Ln Woodstock IL 60098 United States;X-APPLE-RADIUS=500;X-TITLE=11605 Catalpa Ln:geo:-88.4286595,42.2946704
END:VEVENT
BEGIN:VEVENT
DTSTART;TZID=America/Chicago:20180420T190000
DTEND;TZID=America/Chicago:20180420T220000
DTSTAMP:20260425T232854
CREATED:20171205T013422Z
LAST-MODIFIED:20190227T003316Z
UID:1278-1524250800-1524261600@luckybernies.com
SUMMARY:Mary Lai - Lucky Bernie's Huntley
DESCRIPTION:Come watch Mary Lai play live at Lucky Bernie’s in Huntley.
URL:https://luckybernies.com/event/mary-lai-lucky-bernies-huntley/2018-04-20/
LOCATION:Lucky Bernie’s Huntley\, 9810 N. State Rt. 47\, Huntley\, IL\, 60142\, United States
CATEGORIES:Live Music
ATTACH;FMTTYPE=image/jpeg:https://luckybernies.com/wp-content/uploads/2018/02/lucky-bernies-live-music.jpg
GEO:42.1858856;-88.421364
X-APPLE-STRUCTURED-LOCATION;VALUE=URI;X-ADDRESS=Lucky Bernie’s Huntley 9810 N. State Rt. 47 Huntley IL 60142 United States;X-APPLE-RADIUS=500;X-TITLE=9810 N. State Rt. 47:geo:-88.421364,42.1858856
END:VEVENT
BEGIN:VEVENT
DTSTART;TZID=America/Chicago:20180420T190000
DTEND;TZID=America/Chicago:20180420T220000
DTSTAMP:20260425T232854
CREATED:20171102T232217Z
LAST-MODIFIED:20190227T003103Z
UID:1142-1524250800-1524261600@luckybernies.com
SUMMARY:Rick Venn - Huntley
DESCRIPTION:Come watch Rick Venn play live at Lucky Bernie’s in Huntley. Call us for more details! (224) 858-7323
URL:https://luckybernies.com/event/rick-venn-huntley/2018-04-20/
LOCATION:Lucky Bernie’s Huntley\, 9810 N. State Rt. 47\, Huntley\, IL\, 60142\, United States
CATEGORIES:Live Music
ATTACH;FMTTYPE=image/jpeg:https://luckybernies.com/wp-content/uploads/2018/02/lucky-bernies-live-music.jpg
GEO:42.1858856;-88.421364
X-APPLE-STRUCTURED-LOCATION;VALUE=URI;X-ADDRESS=Lucky Bernie’s Huntley 9810 N. State Rt. 47 Huntley IL 60142 United States;X-APPLE-RADIUS=500;X-TITLE=9810 N. State Rt. 47:geo:-88.421364,42.1858856
END:VEVENT
BEGIN:VEVENT
DTSTART;TZID=America/Chicago:20180420T183000
DTEND;TZID=America/Chicago:20180420T213000
DTSTAMP:20260425T232854
CREATED:20170530T230756Z
LAST-MODIFIED:20190205T182016Z
UID:1015-1524249000-1524259800@luckybernies.com
SUMMARY:Carter Hoyt - Lucky Bernie's Spring Grove
DESCRIPTION:Join us at the Lucky Bernie’s Spring Grove location to see Carter Hoyt live!
URL:https://luckybernies.com/event/carter-hoyt-lucky-bernies-spring-grove/2018-04-20/
LOCATION:Lucky Bernies Spring Grove\, 2450 U.S. 12\, Spring Grove\, IL\, 60081\, United States
CATEGORIES:Live Music
ATTACH;FMTTYPE=image/jpeg:https://luckybernies.com/wp-content/uploads/2018/02/lucky-bernies-live-music.jpg
GEO:42.4376647;-88.2451018
X-APPLE-STRUCTURED-LOCATION;VALUE=URI;X-ADDRESS=Lucky Bernies Spring Grove 2450 U.S. 12 Spring Grove IL 60081 United States;X-APPLE-RADIUS=500;X-TITLE=2450 U.S. 12:geo:-88.2451018,42.4376647
END:VEVENT
BEGIN:VEVENT
DTSTART;TZID=America/Chicago:20180411T190000
DTEND;TZID=America/Chicago:20180411T220000
DTSTAMP:20260425T232854
CREATED:20170501T195945Z
LAST-MODIFIED:20180411T200340Z
UID:999-1523473200-1523484000@luckybernies.com
SUMMARY:Lucky Bernie's Karaoke Night - Woodstock
DESCRIPTION:Your invited to ROCK THE HOUSE at Lucky Bernie’s Karaoke Night in Woodstock IL.  Come eat\, drink\, sing and play the night away on our electronic games.
URL:https://luckybernies.com/event/karaoke-woodstock/
LOCATION:Lucky Bernies Woodstock\, 11605 Catalpa Ln\, Woodstock\,\, IL\, 60098\, United States
CATEGORIES:Karaoke
ATTACH;FMTTYPE=image/jpeg:https://luckybernies.com/wp-content/uploads/2017/05/lucky-bernies-karaoke-wednesday-web-banner.jpg
GEO:42.2946704;-88.4286595
X-APPLE-STRUCTURED-LOCATION;VALUE=URI;X-ADDRESS=Lucky Bernies Woodstock 11605 Catalpa Ln Woodstock IL 60098 United States;X-APPLE-RADIUS=500;X-TITLE=11605 Catalpa Ln:geo:-88.4286595,42.2946704
END:VEVENT
BEGIN:VEVENT
DTSTART;TZID=America/Chicago:20180411T190000
DTEND;TZID=America/Chicago:20180411T220000
DTSTAMP:20260425T232854
CREATED:20170414T194028Z
LAST-MODIFIED:20180509T201417Z
UID:968-1523473200-1523484000@luckybernies.com
SUMMARY:Lucky Bernie's Karaoke Night - Spring Grove
DESCRIPTION:Your invited to ROCK THE HOUSE at Lucky Bernie’s Karaoke Night in Spring Grove IL. Come eat\, drink\, sing and play the night away on our electronic games.
URL:https://luckybernies.com/event/lucky-bernies-karaoke-night-spring-grove/2018-04-11/
LOCATION:Lucky Bernies Spring Grove\, 2450 U.S. 12\, Spring Grove\, IL\, 60081\, United States
CATEGORIES:Karaoke
ATTACH;FMTTYPE=image/jpeg:https://luckybernies.com/wp-content/uploads/2017/05/lucky-bernies-karaoke-wednesday-web-banner.jpg
GEO:42.4376647;-88.2451018
X-APPLE-STRUCTURED-LOCATION;VALUE=URI;X-ADDRESS=Lucky Bernies Spring Grove 2450 U.S. 12 Spring Grove IL 60081 United States;X-APPLE-RADIUS=500;X-TITLE=2450 U.S. 12:geo:-88.2451018,42.4376647
END:VEVENT
BEGIN:VEVENT
DTSTART;TZID=America/Chicago:20180410T190000
DTEND;TZID=America/Chicago:20180410T210000
DTSTAMP:20260425T232854
CREATED:20180402T183540Z
LAST-MODIFIED:20180406T033946Z
UID:1556-1523386800-1523394000@luckybernies.com
SUMMARY:Lucky Bernie's Trivia Night - Spring Grove
DESCRIPTION:Lucky Bernie’s Spring Grove is having Trivia Night\, Come on in and join the fun. Have a sandwich\, get a dessert\, fun time and WIN PRIZES!!! Great time to be had by all.
URL:https://luckybernies.com/event/lucky-bernies-trivia-night-spring-grove/2018-04-10/
LOCATION:Lucky Bernies Spring Grove\, 2450 U.S. 12\, Spring Grove\, IL\, 60081\, United States
CATEGORIES:Trivia
ATTACH;FMTTYPE=image/jpeg:https://luckybernies.com/wp-content/uploads/2018/04/trivia-night-spring-grove-fb-image.jpg
GEO:42.4376647;-88.2451018
X-APPLE-STRUCTURED-LOCATION;VALUE=URI;X-ADDRESS=Lucky Bernies Spring Grove 2450 U.S. 12 Spring Grove IL 60081 United States;X-APPLE-RADIUS=500;X-TITLE=2450 U.S. 12:geo:-88.2451018,42.4376647
END:VEVENT
BEGIN:VEVENT
DTSTART;TZID=America/Chicago:20180404T200000
DTEND;TZID=America/Chicago:20180404T230000
DTSTAMP:20260425T232854
CREATED:20180403T003816Z
LAST-MODIFIED:20180411T182233Z
UID:1583-1522872000-1522882800@luckybernies.com
SUMMARY:Lucky Bernie's Karaoke Night - Huntley IL
DESCRIPTION:Your invited to ROCK THE HOUSE at Lucky Bernie’s Karaoke Night in Huntley IL. Come eat\, drink\, sing and play the night away on our electronic games. Karaoke starts at 7PM and Craft Beer’s are only $3
URL:https://luckybernies.com/event/lucky-bernies-karaoke-night-huntley-il/2018-04-04/
LOCATION:Lucky Bernie’s Huntley\, 9810 N. State Rt. 47\, Huntley\, IL\, 60142\, United States
CATEGORIES:Karaoke
ATTACH;FMTTYPE=image/jpeg:https://luckybernies.com/wp-content/uploads/2017/05/lucky-bernies-karaoke-wednesday-web-banner.jpg
GEO:42.1858856;-88.421364
X-APPLE-STRUCTURED-LOCATION;VALUE=URI;X-ADDRESS=Lucky Bernie’s Huntley 9810 N. State Rt. 47 Huntley IL 60142 United States;X-APPLE-RADIUS=500;X-TITLE=9810 N. State Rt. 47:geo:-88.421364,42.1858856
END:VEVENT
BEGIN:VEVENT
DTSTART;TZID=America/Chicago:20180403T200000
DTEND;TZID=America/Chicago:20180403T220000
DTSTAMP:20260425T232854
CREATED:20180402T180904Z
LAST-MODIFIED:20180411T170219Z
UID:1554-1522785600-1522792800@luckybernies.com
SUMMARY:Lucky Bernie's Trivia Night - Woodstock
DESCRIPTION:What’s an awesome way to spend an evening?\n Trivia Night at Lucky Bernie’s! WIN PRIZES!!! \nYour invited to Lucky Bernie’s trivia night. Think you have the brains to beat everyone? Bring your friends and show them what you’ve got. We’re giving away prizes to winners so don’t be shy. \nCome early to place your sandwich orders and enjoy $2 Domestic and Import Beers just for trivia participants!
URL:https://luckybernies.com/event/lucky-bernies-trivia-night-woodstock/2018-04-03/
LOCATION:Lucky Bernies Woodstock\, 11605 Catalpa Ln\, Woodstock\,\, IL\, 60098\, United States
CATEGORIES:Trivia
ATTACH;FMTTYPE=image/jpeg:https://luckybernies.com/wp-content/uploads/2018/04/trivia-night-woodstock-fb-image.jpg
GEO:42.2946704;-88.4286595
X-APPLE-STRUCTURED-LOCATION;VALUE=URI;X-ADDRESS=Lucky Bernies Woodstock 11605 Catalpa Ln Woodstock IL 60098 United States;X-APPLE-RADIUS=500;X-TITLE=11605 Catalpa Ln:geo:-88.4286595,42.2946704
END:VEVENT
BEGIN:VEVENT
DTSTART;TZID=America/Chicago:20180330T190000
DTEND;TZID=America/Chicago:20180330T220000
DTSTAMP:20260425T232854
CREATED:20180228T005025Z
LAST-MODIFIED:20180808T171618Z
UID:1464-1522436400-1522447200@luckybernies.com
SUMMARY:Denny Diamond - Lucky Bernie's Huntley
DESCRIPTION:Come watch Denny Diamond play live at Lucky Bernie’s in Huntley. Call us for more details! (224) 858-7323
URL:https://luckybernies.com/event/denny-diamond-lucky-bernies-huntley/2018-03-30/
LOCATION:Lucky Bernie’s Huntley\, 9810 N. State Rt. 47\, Huntley\, IL\, 60142\, United States
CATEGORIES:Live Music
ATTACH;FMTTYPE=image/jpeg:https://luckybernies.com/wp-content/uploads/2018/02/Denny-Diamond-live.jpg
GEO:42.1858856;-88.421364
X-APPLE-STRUCTURED-LOCATION;VALUE=URI;X-ADDRESS=Lucky Bernie’s Huntley 9810 N. State Rt. 47 Huntley IL 60142 United States;X-APPLE-RADIUS=500;X-TITLE=9810 N. State Rt. 47:geo:-88.421364,42.1858856
END:VEVENT
BEGIN:VEVENT
DTSTART;TZID=America/Chicago:20180330T183000
DTEND;TZID=America/Chicago:20180330T213000
DTSTAMP:20260425T232854
CREATED:20171102T231219Z
LAST-MODIFIED:20181004T184133Z
UID:1126-1522434600-1522445400@luckybernies.com
SUMMARY:The Rotten Bros. - Lucky Bernie's Spring Grove
DESCRIPTION:Come watch The Rotten Bros. play live at Lucky Bernie’s in Spring Grove. Call us for more details! (815) 581-3217
URL:https://luckybernies.com/event/the-rotten-bros-lucky-bernies-spring-grove/2018-03-30/
LOCATION:Lucky Bernies Spring Grove\, 2450 U.S. 12\, Spring Grove\, IL\, 60081\, United States
CATEGORIES:Live Music
ATTACH;FMTTYPE=image/jpeg:https://luckybernies.com/wp-content/uploads/2018/02/Rotten-Bros.-live.jpg
GEO:42.4376647;-88.2451018
X-APPLE-STRUCTURED-LOCATION;VALUE=URI;X-ADDRESS=Lucky Bernies Spring Grove 2450 U.S. 12 Spring Grove IL 60081 United States;X-APPLE-RADIUS=500;X-TITLE=2450 U.S. 12:geo:-88.2451018,42.4376647
END:VEVENT
BEGIN:VEVENT
DTSTART;TZID=America/Chicago:20180307T190000
DTEND;TZID=America/Chicago:20180307T220000
DTSTAMP:20260425T232854
CREATED:20180227T021413Z
LAST-MODIFIED:20180227T021413Z
UID:1430-1520449200-1520460000@luckybernies.com
SUMMARY:Karaoke
DESCRIPTION:Join us at Lucky Bernie’s Huntley and sing your heart out at karaoke night. Call us for more info (224) 858-7323
URL:https://luckybernies.com/event/karaoke/
LOCATION:Lucky Bernie’s Huntley\, 9810 N. State Rt. 47\, Huntley\, IL\, 60142\, United States
GEO:42.1858856;-88.421364
X-APPLE-STRUCTURED-LOCATION;VALUE=URI;X-ADDRESS=Lucky Bernie’s Huntley 9810 N. State Rt. 47 Huntley IL 60142 United States;X-APPLE-RADIUS=500;X-TITLE=9810 N. State Rt. 47:geo:-88.421364,42.1858856
END:VEVENT
BEGIN:VEVENT
DTSTART;TZID=America/Chicago:20180223T183000
DTEND;TZID=America/Chicago:20180223T213000
DTSTAMP:20260425T232854
CREATED:20180126T213320Z
LAST-MODIFIED:20180126T213320Z
UID:1406-1519410600-1519421400@luckybernies.com
SUMMARY:John Piet
DESCRIPTION:Come watch John Piet play live at Lucky Bernie’s in Fox Lake. Call us for more details! (847) 629-5600
URL:https://luckybernies.com/event/john-piet-7/
LOCATION:Lucky Bernie’s Fox Lake\, 1 Nippersink Avenue\, Fox Lake\, IL\, 60020\, United States
GEO:42.397276;-88.181414
X-APPLE-STRUCTURED-LOCATION;VALUE=URI;X-ADDRESS=Lucky Bernie’s Fox Lake 1 Nippersink Avenue Fox Lake IL 60020 United States;X-APPLE-RADIUS=500;X-TITLE=1 Nippersink Avenue:geo:-88.181414,42.397276
END:VEVENT
BEGIN:VEVENT
DTSTART;TZID=America/Chicago:20180209T190000
DTEND;TZID=America/Chicago:20180209T220000
DTSTAMP:20260425T232854
CREATED:20180126T212917Z
LAST-MODIFIED:20180205T233157Z
UID:1394-1518202800-1518213600@luckybernies.com
SUMMARY:John Piet
DESCRIPTION:Come watch John Piet play live at Lucky Bernie’s in Huntley. Call us for more details! (224) 858-7323
URL:https://luckybernies.com/event/john-piet-6/
LOCATION:Lucky Bernie’s Huntley\, 9810 N. State Rt. 47\, Huntley\, IL\, 60142\, United States
GEO:42.1858856;-88.421364
X-APPLE-STRUCTURED-LOCATION;VALUE=URI;X-ADDRESS=Lucky Bernie’s Huntley 9810 N. State Rt. 47 Huntley IL 60142 United States;X-APPLE-RADIUS=500;X-TITLE=9810 N. State Rt. 47:geo:-88.421364,42.1858856
END:VEVENT
BEGIN:VEVENT
DTSTART;TZID=America/Chicago:20180202T183000
DTEND;TZID=America/Chicago:20180202T213000
DTSTAMP:20260425T232854
CREATED:20180126T212456Z
LAST-MODIFIED:20180126T212456Z
UID:1385-1517596200-1517607000@luckybernies.com
SUMMARY:Hiro Satoh
DESCRIPTION:Come watch Hiro Satoh play live at Lucky Bernie’s in Woodstock. Call us for more details! (815) 527-7251
URL:https://luckybernies.com/event/hiro-satoh-2/
LOCATION:Lucky Bernies Woodstock\, 11605 Catalpa Ln\, Woodstock\,\, IL\, 60098\, United States
GEO:42.2946704;-88.4286595
X-APPLE-STRUCTURED-LOCATION;VALUE=URI;X-ADDRESS=Lucky Bernies Woodstock 11605 Catalpa Ln Woodstock IL 60098 United States;X-APPLE-RADIUS=500;X-TITLE=11605 Catalpa Ln:geo:-88.4286595,42.2946704
END:VEVENT
BEGIN:VEVENT
DTSTART;TZID=America/Chicago:20180126T190000
DTEND;TZID=America/Chicago:20180126T220000
DTSTAMP:20260425T232854
CREATED:20180104T024457Z
LAST-MODIFIED:20190227T003828Z
UID:1292-1516993200-1517004000@luckybernies.com
SUMMARY:Just Jake - Lucky Bernie's Huntley
DESCRIPTION:Come watch Just Jake play live at Lucky Bernie’s in Huntley.
URL:https://luckybernies.com/event/just-jake-lucky-bernies-huntley/2018-01-26/
LOCATION:Lucky Bernie’s Huntley\, 9810 N. State Rt. 47\, Huntley\, IL\, 60142\, United States
CATEGORIES:Live Music
ATTACH;FMTTYPE=image/jpeg:https://luckybernies.com/wp-content/uploads/2018/02/lucky-bernies-live-music.jpg
GEO:42.1858856;-88.421364
X-APPLE-STRUCTURED-LOCATION;VALUE=URI;X-ADDRESS=Lucky Bernie’s Huntley 9810 N. State Rt. 47 Huntley IL 60142 United States;X-APPLE-RADIUS=500;X-TITLE=9810 N. State Rt. 47:geo:-88.421364,42.1858856
END:VEVENT
BEGIN:VEVENT
DTSTART;TZID=America/Chicago:20180126T183000
DTEND;TZID=America/Chicago:20180126T213000
DTSTAMP:20260425T232854
CREATED:20180104T024849Z
LAST-MODIFIED:20180104T024849Z
UID:1297-1516991400-1517002200@luckybernies.com
SUMMARY:John Piet
DESCRIPTION:Come watch John Piet play live at Lucky Bernie’s in Fox Lake. Call us for more details! (847) 629-5600
URL:https://luckybernies.com/event/john-piet-3/
LOCATION:Lucky Bernie’s Fox Lake\, 1 Nippersink Avenue\, Fox Lake\, IL\, 60020\, United States
GEO:42.397276;-88.181414
X-APPLE-STRUCTURED-LOCATION;VALUE=URI;X-ADDRESS=Lucky Bernie’s Fox Lake 1 Nippersink Avenue Fox Lake IL 60020 United States;X-APPLE-RADIUS=500;X-TITLE=1 Nippersink Avenue:geo:-88.181414,42.397276
END:VEVENT
BEGIN:VEVENT
DTSTART;TZID=America/Chicago:20180105T193000
DTEND;TZID=America/Chicago:20180105T223000
DTSTAMP:20260425T232854
CREATED:20180104T025133Z
LAST-MODIFIED:20180406T131233Z
UID:1299-1515180600-1515191400@luckybernies.com
SUMMARY:Hiro Satoh
DESCRIPTION:Come watch Hiro Satoh play live at Lucky Bernie’s in Woodstock. Call us for more details! (815) 527-7251
URL:https://luckybernies.com/event/hiro-satoh/2018-01-05/
LOCATION:Lucky Bernies Woodstock\, 11605 Catalpa Ln\, Woodstock\,\, IL\, 60098\, United States
CATEGORIES:Live Music
ATTACH;FMTTYPE=image/jpeg:https://luckybernies.com/wp-content/uploads/2018/01/hiro-satoh-live-music.jpeg
GEO:42.2946704;-88.4286595
X-APPLE-STRUCTURED-LOCATION;VALUE=URI;X-ADDRESS=Lucky Bernies Woodstock 11605 Catalpa Ln Woodstock IL 60098 United States;X-APPLE-RADIUS=500;X-TITLE=11605 Catalpa Ln:geo:-88.4286595,42.2946704
END:VEVENT
BEGIN:VEVENT
DTSTART;TZID=America/Chicago:20171229T183000
DTEND;TZID=America/Chicago:20171229T213000
DTSTAMP:20260425T232854
CREATED:20171205T013008Z
LAST-MODIFIED:20171205T013112Z
UID:1272-1514572200-1514583000@luckybernies.com
SUMMARY:TBA
DESCRIPTION:Come watch TBA play live at Lucky Bernie’s in Woodstock. Call us for more details! (815) 527-7251
URL:https://luckybernies.com/event/tba-2/
LOCATION:Lucky Bernies Woodstock\, 11605 Catalpa Ln\, Woodstock\,\, IL\, 60098\, United States
GEO:42.2946704;-88.4286595
X-APPLE-STRUCTURED-LOCATION;VALUE=URI;X-ADDRESS=Lucky Bernies Woodstock 11605 Catalpa Ln Woodstock IL 60098 United States;X-APPLE-RADIUS=500;X-TITLE=11605 Catalpa Ln:geo:-88.4286595,42.2946704
END:VEVENT
BEGIN:VEVENT
DTSTART;TZID=America/Chicago:20171215T183000
DTEND;TZID=America/Chicago:20171215T213000
DTSTAMP:20260425T232854
CREATED:20171205T012430Z
LAST-MODIFIED:20171205T012430Z
UID:1262-1513362600-1513373400@luckybernies.com
SUMMARY:John Piet
DESCRIPTION:Come watch John Piet play live at Lucky Bernie’s in Spring Grove. Call us for more details! (224) 858-7323
URL:https://luckybernies.com/event/john-piet-2/
LOCATION:Lucky Bernies Spring Grove\, 2450 U.S. 12\, Spring Grove\, IL\, 60081\, United States
GEO:42.4376647;-88.2451018
X-APPLE-STRUCTURED-LOCATION;VALUE=URI;X-ADDRESS=Lucky Bernies Spring Grove 2450 U.S. 12 Spring Grove IL 60081 United States;X-APPLE-RADIUS=500;X-TITLE=2450 U.S. 12:geo:-88.2451018,42.4376647
END:VEVENT
BEGIN:VEVENT
DTSTART;TZID=America/Chicago:20171201T183000
DTEND;TZID=America/Chicago:20171201T213000
DTSTAMP:20260425T232854
CREATED:20171205T013214Z
LAST-MODIFIED:20171205T013214Z
UID:1274-1512153000-1512163800@luckybernies.com
SUMMARY:Just Lake
DESCRIPTION:Come watch Just Lake play live at Lucky Bernie’s in Huntley. Call us for more details! (224) 858-7323
URL:https://luckybernies.com/event/just-lake/
LOCATION:Lucky Bernie’s Huntley\, 9810 N. State Rt. 47\, Huntley\, IL\, 60142\, United States
GEO:42.1858856;-88.421364
X-APPLE-STRUCTURED-LOCATION;VALUE=URI;X-ADDRESS=Lucky Bernie’s Huntley 9810 N. State Rt. 47 Huntley IL 60142 United States;X-APPLE-RADIUS=500;X-TITLE=9810 N. State Rt. 47:geo:-88.421364,42.1858856
END:VEVENT
BEGIN:VEVENT
DTSTART;TZID=America/Chicago:20171201T183000
DTEND;TZID=America/Chicago:20171201T213000
DTSTAMP:20260425T232854
CREATED:20171205T012002Z
LAST-MODIFIED:20171205T012218Z
UID:1256-1512153000-1512163800@luckybernies.com
SUMMARY:L/M Experience
DESCRIPTION:Come watch the L/M Experience play live at Lucky Bernie’s in Spring Grove. Call us for more details! (224) 858-7323
URL:https://luckybernies.com/event/lm-experience-2/
LOCATION:Lucky Bernies Spring Grove\, 2450 U.S. 12\, Spring Grove\, IL\, 60081\, United States
GEO:42.4376647;-88.2451018
X-APPLE-STRUCTURED-LOCATION;VALUE=URI;X-ADDRESS=Lucky Bernies Spring Grove 2450 U.S. 12 Spring Grove IL 60081 United States;X-APPLE-RADIUS=500;X-TITLE=2450 U.S. 12:geo:-88.2451018,42.4376647
END:VEVENT
BEGIN:VEVENT
DTSTART;TZID=America/Chicago:20171122T183000
DTEND;TZID=America/Chicago:20171122T213000
DTSTAMP:20260425T232854
CREATED:20171102T233841Z
LAST-MODIFIED:20171102T233926Z
UID:1162-1511375400-1511386200@luckybernies.com
SUMMARY:Sean Godvic
DESCRIPTION:Come watch Sean Godvic play live at Lucky Bernie’s in Woodstock. Call us for more details! (815) 527-7251
URL:https://luckybernies.com/event/sean-godvic/
LOCATION:Lucky Bernies Woodstock\, 11605 Catalpa Ln\, Woodstock\,\, IL\, 60098\, United States
GEO:42.2946704;-88.4286595
X-APPLE-STRUCTURED-LOCATION;VALUE=URI;X-ADDRESS=Lucky Bernies Woodstock 11605 Catalpa Ln Woodstock IL 60098 United States;X-APPLE-RADIUS=500;X-TITLE=11605 Catalpa Ln:geo:-88.4286595,42.2946704
END:VEVENT
BEGIN:VEVENT
DTSTART;TZID=America/Chicago:20171110T183000
DTEND;TZID=America/Chicago:20171110T213000
DTSTAMP:20260425T232854
CREATED:20171102T232318Z
LAST-MODIFIED:20190130T200958Z
UID:1145-1510338600-1510349400@luckybernies.com
SUMMARY:Sean Godvik - Lucky Bernie's Spring Grove
DESCRIPTION:Come watch Sean Godvik play live at Lucky Bernie’s in Spring Grove
URL:https://luckybernies.com/event/sean-godvik-lucky-bernies-spring-grove/2017-11-10/
LOCATION:Lucky Bernies Spring Grove\, 2450 U.S. 12\, Spring Grove\, IL\, 60081\, United States
CATEGORIES:Live Music
ATTACH;FMTTYPE=image/jpeg:https://luckybernies.com/wp-content/uploads/2017/11/file-apr-05-9-48-06-pm.jpeg
GEO:42.4376647;-88.2451018
X-APPLE-STRUCTURED-LOCATION;VALUE=URI;X-ADDRESS=Lucky Bernies Spring Grove 2450 U.S. 12 Spring Grove IL 60081 United States;X-APPLE-RADIUS=500;X-TITLE=2450 U.S. 12:geo:-88.2451018,42.4376647
END:VEVENT
BEGIN:VEVENT
DTSTART;TZID=America/Chicago:20171110T183000
DTEND;TZID=America/Chicago:20171110T213000
DTSTAMP:20260425T232854
CREATED:20171102T231700Z
LAST-MODIFIED:20171102T232934Z
UID:1134-1510338600-1510349400@luckybernies.com
SUMMARY:Jake Weingart
DESCRIPTION:Come watch Josh Harlow play live at Lucky Bernie’s in Woodstock. Call us for more details! (815) 527-7251
URL:https://luckybernies.com/event/jake-weingart-2/
LOCATION:Lucky Bernies Woodstock\, 11605 Catalpa Ln\, Woodstock\,\, IL\, 60098\, United States
GEO:42.2946704;-88.4286595
X-APPLE-STRUCTURED-LOCATION;VALUE=URI;X-ADDRESS=Lucky Bernies Woodstock 11605 Catalpa Ln Woodstock IL 60098 United States;X-APPLE-RADIUS=500;X-TITLE=11605 Catalpa Ln:geo:-88.4286595,42.2946704
END:VEVENT
END:VCALENDAR