BEGIN:VCALENDAR
VERSION:2.0
PRODID:-//Lucky Bernie&#039;s - ECPv6.3.7//NONSGML v1.0//EN
CALSCALE:GREGORIAN
METHOD:PUBLISH
X-WR-CALNAME:Lucky Bernie&#039;s
X-ORIGINAL-URL:https://luckybernies.com
X-WR-CALDESC:Events for Lucky Bernie&#039;s
REFRESH-INTERVAL;VALUE=DURATION:PT1H
X-Robots-Tag:noindex
X-PUBLISHED-TTL:PT1H
BEGIN:VTIMEZONE
TZID:America/Chicago
BEGIN:DAYLIGHT
TZOFFSETFROM:-0600
TZOFFSETTO:-0500
TZNAME:CDT
DTSTART:20170312T080000
END:DAYLIGHT
BEGIN:STANDARD
TZOFFSETFROM:-0500
TZOFFSETTO:-0600
TZNAME:CST
DTSTART:20171105T070000
END:STANDARD
END:VTIMEZONE
BEGIN:VEVENT
DTSTART;VALUE=DATE:20170617
DTEND;VALUE=DATE:20170618
DTSTAMP:20260425T163257
CREATED:20170418T230026Z
LAST-MODIFIED:20170418T230139Z
UID:973-1497657600-1497743999@luckybernies.com
SUMMARY:"Tommy Run" Motorcycle Fundraiser Ride
DESCRIPTION:Come join us at Lucky Bernie’s for the official “Tommy Run” after party. We’re going to have raffles\, auctions\, live music\, and 10% off any order!
URL:https://luckybernies.com/event/tommy-run-motorcycle-fundraiser-ride/
LOCATION:IL
ATTACH;FMTTYPE=image/jpeg:https://luckybernies.com/wp-content/uploads/2017/04/IMG_7022.jpg
END:VEVENT
BEGIN:VEVENT
DTSTART;TZID=America/Chicago:20170616T183000
DTEND;TZID=America/Chicago:20170616T213000
DTSTAMP:20260425T163257
CREATED:20170530T231011Z
LAST-MODIFIED:20181206T184505Z
UID:1019-1497637800-1497648600@luckybernies.com
SUMMARY:L&M Experience - Lucky Bernie's Spring Grove
DESCRIPTION:Join us at the Lucky Bernie’s Spring Grove location to see L&M Experience live!
URL:https://luckybernies.com/event/lm-experience-lucky-bernies-spring-grove/2017-06-16/
LOCATION:Lucky Bernies Spring Grove\, 2450 U.S. 12\, Spring Grove\, IL\, 60081\, United States
CATEGORIES:Live Music
ATTACH;FMTTYPE=image/jpeg:https://luckybernies.com/wp-content/uploads/2017/05/lm-experience-live-music.jpeg
GEO:42.4376647;-88.2451018
X-APPLE-STRUCTURED-LOCATION;VALUE=URI;X-ADDRESS=Lucky Bernies Spring Grove 2450 U.S. 12 Spring Grove IL 60081 United States;X-APPLE-RADIUS=500;X-TITLE=2450 U.S. 12:geo:-88.2451018,42.4376647
END:VEVENT
BEGIN:VEVENT
DTSTART;TZID=America/Chicago:20170602T193000
DTEND;TZID=America/Chicago:20170602T220000
DTSTAMP:20260425T163257
CREATED:20170530T230623Z
LAST-MODIFIED:20170530T230623Z
UID:1011-1496431800-1496440800@luckybernies.com
SUMMARY:Justin Finn
DESCRIPTION:Join us at the Lucky Bernie’s Spring Grove location to see Justin Finn live!
URL:https://luckybernies.com/event/justin-finn/
LOCATION:Lucky Bernies Spring Grove\, 2450 U.S. 12\, Spring Grove\, IL\, 60081\, United States
GEO:42.4376647;-88.2451018
X-APPLE-STRUCTURED-LOCATION;VALUE=URI;X-ADDRESS=Lucky Bernies Spring Grove 2450 U.S. 12 Spring Grove IL 60081 United States;X-APPLE-RADIUS=500;X-TITLE=2450 U.S. 12:geo:-88.2451018,42.4376647
END:VEVENT
BEGIN:VEVENT
DTSTART;TZID=America/Chicago:20170602T193000
DTEND;TZID=America/Chicago:20170602T220000
DTSTAMP:20260425T163257
CREATED:20170530T230451Z
LAST-MODIFIED:20170530T230451Z
UID:1009-1496431800-1496440800@luckybernies.com
SUMMARY:John Jorgenson Live
DESCRIPTION:Join us at the Lucky Bernie’s Woodstock location to enjoy live music by John Jorgenson.
URL:https://luckybernies.com/event/john-jorgenson-live/
LOCATION:Lucky Bernies Woodstock\, 11605 Catalpa Ln\, Woodstock\,\, IL\, 60098\, United States
GEO:42.2946704;-88.4286595
X-APPLE-STRUCTURED-LOCATION;VALUE=URI;X-ADDRESS=Lucky Bernies Woodstock 11605 Catalpa Ln Woodstock IL 60098 United States;X-APPLE-RADIUS=500;X-TITLE=11605 Catalpa Ln:geo:-88.4286595,42.2946704
END:VEVENT
BEGIN:VEVENT
DTSTART;TZID=America/Chicago:20170601T183000
DTEND;TZID=America/Chicago:20170601T213000
DTSTAMP:20260425T163257
CREATED:20170311T033716Z
LAST-MODIFIED:20190227T003129Z
UID:934-1496341800-1496352600@luckybernies.com
SUMMARY:Rick Venn - Spring Grove
DESCRIPTION:Come watch Rick Venn play live at Lucky Bernie’s Spring Grove
URL:https://luckybernies.com/event/rick-venn-spring-grove/2017-06-01/
LOCATION:Lucky Bernies Spring Grove\, 2450 U.S. 12\, Spring Grove\, IL\, 60081\, United States
CATEGORIES:Live Music
ATTACH;FMTTYPE=image/jpeg:https://luckybernies.com/wp-content/uploads/2018/02/lucky-bernies-live-music.jpg
GEO:42.4376647;-88.2451018
X-APPLE-STRUCTURED-LOCATION;VALUE=URI;X-ADDRESS=Lucky Bernies Spring Grove 2450 U.S. 12 Spring Grove IL 60081 United States;X-APPLE-RADIUS=500;X-TITLE=2450 U.S. 12:geo:-88.2451018,42.4376647
END:VEVENT
BEGIN:VEVENT
DTSTART;TZID=America/Chicago:20170527T183000
DTEND;TZID=America/Chicago:20170527T213000
DTSTAMP:20260425T163257
CREATED:20170501T200329Z
LAST-MODIFIED:20170512T133432Z
UID:1005-1495909800-1495920600@luckybernies.com
SUMMARY:Paint Party - Woodstock
DESCRIPTION:Join us at our Lucky Bernie’s Woodstock location for our fun and exciting Paint Party!
URL:https://luckybernies.com/event/paint-party-woodstock/
LOCATION:Lucky Bernies Woodstock\, 11605 Catalpa Ln\, Woodstock\,\, IL\, 60098\, United States
GEO:42.2946704;-88.4286595
X-APPLE-STRUCTURED-LOCATION;VALUE=URI;X-ADDRESS=Lucky Bernies Woodstock 11605 Catalpa Ln Woodstock IL 60098 United States;X-APPLE-RADIUS=500;X-TITLE=11605 Catalpa Ln:geo:-88.4286595,42.2946704
END:VEVENT
BEGIN:VEVENT
DTSTART;TZID=America/Chicago:20170513T183000
DTEND;TZID=America/Chicago:20170513T220000
DTSTAMP:20260425T163257
CREATED:20170501T200251Z
LAST-MODIFIED:20170501T200251Z
UID:1002-1494700200-1494712800@luckybernies.com
SUMMARY:Paint Party - Spring Grove
DESCRIPTION:Join us at our Lucky Bernie’s Spring Grove location for our fun and exciting Paint Party!
URL:https://luckybernies.com/event/paint-party-spring-grove/2017-05-13/
LOCATION:Lucky Bernies Spring Grove\, 2450 U.S. 12\, Spring Grove\, IL\, 60081\, United States
GEO:42.4376647;-88.2451018
X-APPLE-STRUCTURED-LOCATION;VALUE=URI;X-ADDRESS=Lucky Bernies Spring Grove 2450 U.S. 12 Spring Grove IL 60081 United States;X-APPLE-RADIUS=500;X-TITLE=2450 U.S. 12:geo:-88.2451018,42.4376647
END:VEVENT
BEGIN:VEVENT
DTSTART;TZID=America/Chicago:20170429T183000
DTEND;TZID=America/Chicago:20170429T213000
DTSTAMP:20260425T163257
CREATED:20170414T194151Z
LAST-MODIFIED:20170420T214736Z
UID:971-1493490600-1493501400@luckybernies.com
SUMMARY:Relay for Life - Spring Grove
DESCRIPTION:Live Music Performed by Eddie Beavers \nWine Tasting and Raffles
URL:https://luckybernies.com/event/relay-for-life-spring-grove/
LOCATION:Lucky Bernies Spring Grove\, 2450 U.S. 12\, Spring Grove\, IL\, 60081\, United States
ATTACH;FMTTYPE=image/jpeg:https://luckybernies.com/wp-content/uploads/2016/04/Wine-Tasting_LB.jpg
GEO:42.4376647;-88.2451018
X-APPLE-STRUCTURED-LOCATION;VALUE=URI;X-ADDRESS=Lucky Bernies Spring Grove 2450 U.S. 12 Spring Grove IL 60081 United States;X-APPLE-RADIUS=500;X-TITLE=2450 U.S. 12:geo:-88.2451018,42.4376647
END:VEVENT
BEGIN:VEVENT
DTSTART;TZID=America/Chicago:20170428T183000
DTEND;TZID=America/Chicago:20170428T213000
DTSTAMP:20260425T163257
CREATED:20170414T193751Z
LAST-MODIFIED:20170414T222140Z
UID:963-1493404200-1493415000@luckybernies.com
SUMMARY:Eddie Beavers - Woodstock
DESCRIPTION:Live at our Woodstock\, IL Location
URL:https://luckybernies.com/event/eddie-beavers-woodstock-2017-04-28/2017-04-28/
LOCATION:Lucky Bernies Woodstock\, 11605 Catalpa Ln\, Woodstock\,\, IL\, 60098\, United States
GEO:42.2946704;-88.4286595
X-APPLE-STRUCTURED-LOCATION;VALUE=URI;X-ADDRESS=Lucky Bernies Woodstock 11605 Catalpa Ln Woodstock IL 60098 United States;X-APPLE-RADIUS=500;X-TITLE=11605 Catalpa Ln:geo:-88.4286595,42.2946704
END:VEVENT
BEGIN:VEVENT
DTSTART;TZID=America/Chicago:20170415T183000
DTEND;TZID=America/Chicago:20170415T220000
DTSTAMP:20260425T163257
CREATED:20170414T193539Z
LAST-MODIFIED:20170501T200053Z
UID:958-1492281000-1492293600@luckybernies.com
SUMMARY:Eddie Beavers - Spring Grove
DESCRIPTION:Live at Our Spring Grove\, IL Location
URL:https://luckybernies.com/event/eddie-beavers/2017-04-15/
LOCATION:Lucky Bernies Spring Grove\, 2450 U.S. 12\, Spring Grove\, IL\, 60081\, United States
GEO:42.4376647;-88.2451018
X-APPLE-STRUCTURED-LOCATION;VALUE=URI;X-ADDRESS=Lucky Bernies Spring Grove 2450 U.S. 12 Spring Grove IL 60081 United States;X-APPLE-RADIUS=500;X-TITLE=2450 U.S. 12:geo:-88.2451018,42.4376647
END:VEVENT
BEGIN:VEVENT
DTSTART;TZID=America/Chicago:20170401T183000
DTEND;TZID=America/Chicago:20170401T213000
DTSTAMP:20260425T163257
CREATED:20170414T193751Z
LAST-MODIFIED:20170414T222229Z
UID:961-1491071400-1491082200@luckybernies.com
SUMMARY:Eddie Beavers - Woodstock
DESCRIPTION:Live at our Woodstock\, IL location.
URL:https://luckybernies.com/event/eddie-beavers-woodstock/
LOCATION:Lucky Bernies Woodstock\, 11605 Catalpa Ln\, Woodstock\,\, IL\, 60098\, United States
GEO:42.2946704;-88.4286595
X-APPLE-STRUCTURED-LOCATION;VALUE=URI;X-ADDRESS=Lucky Bernies Woodstock 11605 Catalpa Ln Woodstock IL 60098 United States;X-APPLE-RADIUS=500;X-TITLE=11605 Catalpa Ln:geo:-88.4286595,42.2946704
END:VEVENT
BEGIN:VEVENT
DTSTART;TZID=America/Chicago:20170331T220000
DTEND;TZID=America/Chicago:20170331T220000
DTSTAMP:20260425T163257
CREATED:20170311T034506Z
LAST-MODIFIED:20170311T034506Z
UID:944-1490997600-1490997600@luckybernies.com
SUMMARY:Justin Fin - Spring Grove
DESCRIPTION:
URL:https://luckybernies.com/event/justin-fin-spring-grove/
LOCATION:Lucky Bernies Spring Grove\, 2450 U.S. 12\, Spring Grove\, IL\, 60081\, United States
ATTACH;FMTTYPE=image/jpeg:https://luckybernies.com/wp-content/uploads/2017/03/Original-image-2138x1200.jpeg
GEO:42.4376647;-88.2451018
X-APPLE-STRUCTURED-LOCATION;VALUE=URI;X-ADDRESS=Lucky Bernies Spring Grove 2450 U.S. 12 Spring Grove IL 60081 United States;X-APPLE-RADIUS=500;X-TITLE=2450 U.S. 12:geo:-88.2451018,42.4376647
END:VEVENT
BEGIN:VEVENT
DTSTART;TZID=America/Chicago:20170331T220000
DTEND;TZID=America/Chicago:20170331T220000
DTSTAMP:20260425T163257
CREATED:20170311T034426Z
LAST-MODIFIED:20170311T034426Z
UID:942-1490997600-1490997600@luckybernies.com
SUMMARY:Jake Weingart - Woodstock
DESCRIPTION:
URL:https://luckybernies.com/event/jake-weingart-woodstock/
LOCATION:Lucky Bernies Woodstock\, 11605 Catalpa Ln\, Woodstock\,\, IL\, 60098\, United States
ATTACH;FMTTYPE=image/jpeg:https://luckybernies.com/wp-content/uploads/2017/03/Original-image-2138x1200.jpeg
GEO:42.2946704;-88.4286595
X-APPLE-STRUCTURED-LOCATION;VALUE=URI;X-ADDRESS=Lucky Bernies Woodstock 11605 Catalpa Ln Woodstock IL 60098 United States;X-APPLE-RADIUS=500;X-TITLE=11605 Catalpa Ln:geo:-88.4286595,42.2946704
END:VEVENT
BEGIN:VEVENT
DTSTART;TZID=America/Chicago:20170317T220000
DTEND;TZID=America/Chicago:20170317T220000
DTSTAMP:20260425T163257
CREATED:20170311T033615Z
LAST-MODIFIED:20170311T034224Z
UID:932-1489788000-1489788000@luckybernies.com
SUMMARY:Jake Weingart - Spring Grove
DESCRIPTION:
URL:https://luckybernies.com/event/jake-weingart-spring-grove/
LOCATION:Lucky Bernies Spring Grove\, 2450 U.S. 12\, Spring Grove\, IL\, 60081\, United States
ATTACH;FMTTYPE=image/jpeg:https://luckybernies.com/wp-content/uploads/2017/03/Original-image-2138x1200.jpeg
GEO:42.4376647;-88.2451018
X-APPLE-STRUCTURED-LOCATION;VALUE=URI;X-ADDRESS=Lucky Bernies Spring Grove 2450 U.S. 12 Spring Grove IL 60081 United States;X-APPLE-RADIUS=500;X-TITLE=2450 U.S. 12:geo:-88.2451018,42.4376647
END:VEVENT
BEGIN:VEVENT
DTSTART;TZID=America/Chicago:20170317T220000
DTEND;TZID=America/Chicago:20170317T220000
DTSTAMP:20260425T163257
CREATED:20170311T033453Z
LAST-MODIFIED:20170311T034210Z
UID:930-1489788000-1489788000@luckybernies.com
SUMMARY:Justin Fin - Woodstock
DESCRIPTION:
URL:https://luckybernies.com/event/justin-fin-woodstock/
LOCATION:Lucky Bernies Woodstock\, 11605 Catalpa Ln\, Woodstock\,\, IL\, 60098\, United States
ATTACH;FMTTYPE=image/jpeg:https://luckybernies.com/wp-content/uploads/2017/03/Original-image-2138x1200.jpeg
GEO:42.2946704;-88.4286595
X-APPLE-STRUCTURED-LOCATION;VALUE=URI;X-ADDRESS=Lucky Bernies Woodstock 11605 Catalpa Ln Woodstock IL 60098 United States;X-APPLE-RADIUS=500;X-TITLE=11605 Catalpa Ln:geo:-88.4286595,42.2946704
END:VEVENT
END:VCALENDAR