BEGIN:VCALENDAR
VERSION:2.0
PRODID:-//Lucky Bernie&#039;s - ECPv6.3.7//NONSGML v1.0//EN
CALSCALE:GREGORIAN
METHOD:PUBLISH
X-ORIGINAL-URL:https://luckybernies.com
X-WR-CALDESC:Events for Lucky Bernie&#039;s
REFRESH-INTERVAL;VALUE=DURATION:PT1H
X-Robots-Tag:noindex
X-PUBLISHED-TTL:PT1H
BEGIN:VTIMEZONE
TZID:America/Chicago
BEGIN:DAYLIGHT
TZOFFSETFROM:-0600
TZOFFSETTO:-0500
TZNAME:CDT
DTSTART:20180311T080000
END:DAYLIGHT
BEGIN:STANDARD
TZOFFSETFROM:-0500
TZOFFSETTO:-0600
TZNAME:CST
DTSTART:20181104T070000
END:STANDARD
END:VTIMEZONE
BEGIN:VEVENT
DTSTART;TZID=America/Chicago:20181102T183000
DTEND;TZID=America/Chicago:20181102T213000
DTSTAMP:20260425T230812
CREATED:20181030T001910Z
LAST-MODIFIED:20190227T003224Z
UID:2047-1541183400-1541194200@luckybernies.com
SUMMARY:Dean Milano - Lucky Bernie's Spring Grove
DESCRIPTION:Dean Milano Live at Lucky Bernie’s Spring Grove
URL:https://luckybernies.com/event/dean-milano-lucky-bernies-spring-grove/2018-11-02/
LOCATION:Lucky Bernies Spring Grove\, 2450 U.S. 12\, Spring Grove\, IL\, 60081\, United States
CATEGORIES:Live Music
ATTACH;FMTTYPE=image/jpeg:https://luckybernies.com/wp-content/uploads/2018/02/lucky-bernies-live-music.jpg
GEO:42.4376647;-88.2451018
X-APPLE-STRUCTURED-LOCATION;VALUE=URI;X-ADDRESS=Lucky Bernies Spring Grove 2450 U.S. 12 Spring Grove IL 60081 United States;X-APPLE-RADIUS=500;X-TITLE=2450 U.S. 12:geo:-88.2451018,42.4376647
END:VEVENT
BEGIN:VEVENT
DTSTART;TZID=America/Chicago:20181116T190000
DTEND;TZID=America/Chicago:20181116T220000
DTSTAMP:20260425T230812
CREATED:20181030T002119Z
LAST-MODIFIED:20181206T185840Z
UID:2052-1542394800-1542405600@luckybernies.com
SUMMARY:Pete Berwick Live - Lucky Bernie's Huntley
DESCRIPTION:Pete Berwick playing live at Lucky Bernie’s in Huntley Il
URL:https://luckybernies.com/event/pete-berwick-live-lucky-bernies-huntley/2018-11-16/
LOCATION:Lucky Bernie’s Huntley\, 9810 N. State Rt. 47\, Huntley\, IL\, 60142\, United States
CATEGORIES:Live Music
ATTACH;FMTTYPE=image/jpeg:https://luckybernies.com/wp-content/uploads/2018/02/lucky-bernies-live-music.jpg
GEO:42.1858856;-88.421364
X-APPLE-STRUCTURED-LOCATION;VALUE=URI;X-ADDRESS=Lucky Bernie’s Huntley 9810 N. State Rt. 47 Huntley IL 60142 United States;X-APPLE-RADIUS=500;X-TITLE=9810 N. State Rt. 47:geo:-88.421364,42.1858856
END:VEVENT
BEGIN:VEVENT
DTSTART;TZID=America/Chicago:20181123T190000
DTEND;TZID=America/Chicago:20181123T220000
DTSTAMP:20260425T230812
CREATED:20181030T002615Z
LAST-MODIFIED:20181030T002615Z
UID:2066-1542999600-1543010400@luckybernies.com
SUMMARY:Dani Lampi - Lucky Bernie's Huntley
DESCRIPTION:Join us at the Lucky Bernie’s Huntley location to see Dani Lampi live!
URL:https://luckybernies.com/event/dani-lampi-lucky-bernies-huntley/
LOCATION:Lucky Bernie’s Huntley\, 9810 N. State Rt. 47\, Huntley\, IL\, 60142\, United States
CATEGORIES:Live Music
ATTACH;FMTTYPE=image/jpeg:https://luckybernies.com/wp-content/uploads/2018/02/lucky-bernies-live-music.jpg
GEO:42.1858856;-88.421364
X-APPLE-STRUCTURED-LOCATION;VALUE=URI;X-ADDRESS=Lucky Bernie’s Huntley 9810 N. State Rt. 47 Huntley IL 60142 United States;X-APPLE-RADIUS=500;X-TITLE=9810 N. State Rt. 47:geo:-88.421364,42.1858856
END:VEVENT
BEGIN:VEVENT
DTSTART;TZID=America/Chicago:20181124T190000
DTEND;TZID=America/Chicago:20181124T220000
DTSTAMP:20260425T230812
CREATED:20181113T144038Z
LAST-MODIFIED:20181113T144039Z
UID:2084-1543086000-1543096800@luckybernies.com
SUMMARY:Comedy Show Featuring - Steve Sabo
DESCRIPTION:Steve Sabo\nSlowing down is not in Steve Sabo’s vocabulary. Tirelessly working the road an astonishing 52 weeks a year\, this comedy road warrior brings laughter and joy all over the nation\, and beyond. No stage is too big or too small; he has performed for crowds as large as 5\,000 and as small as two. First hitting the comedy stage straight out of high school at 18\, he has honed his craft at comedy clubs\, dirty bars\, shiny casinos\, military bases\, cruise ships\, colleges\, corporate shows\, fundraisers\, restaurants and even a back yard or two. His comedy has universal appeal\, and his experience shows it. \nIn his 25 years as a performer\, he has had the privilege of sharing the stage with comedy legends such as Joan Rivers\, Chris Rock\, Kevin James and Tom Green. He has made television appearances on HBO\, NBC\, E! and Comedy Central. He is heard regularly on SiriusXM Satellite Radio and has appeared on the nationally syndicated “Sex Talk Live” \, “BTS Radio Show” and “The Jiggy Jaguar Show”. \nSteve entertained the troops in Iraq and Kuwait and has been seen nationally and internationally at such festivals as Gilda’s “Laughfest”(three times)\, Calgary’s “Funnyfest”\, & “The Great Plains Comedy Festival” (twice). In all\, he has performed in 46 states\, 7 countries and 4 islands. \nDavid Gamble\nIn his short time in the comedy world David Gamble has made giant strides.  His clever writing and dark but friendly style has made him a club favorite.  He has performed in the Columbus Comedy\, Independence\, and Devil’s Cup Comedy Festivals and has been featured on Columbus Underground and numerous radio stations.
URL:https://luckybernies.com/event/comedy-show-featuring-steve-sabo/
LOCATION:Lucky Bernie’s Mundelein\, 408 North Lake Street\, Mundelein\, IL\, 60060\, United States
CATEGORIES:Comedy
ATTACH;FMTTYPE=image/jpeg:https://luckybernies.com/wp-content/uploads/2018/11/MD_11-24-18_8.5x11-100.jpg
GEO:42.2701072;-88.0052298
X-APPLE-STRUCTURED-LOCATION;VALUE=URI;X-ADDRESS=Lucky Bernie’s Mundelein 408 North Lake Street Mundelein IL 60060 United States;X-APPLE-RADIUS=500;X-TITLE=408 North Lake Street:geo:-88.0052298,42.2701072
END:VEVENT
END:VCALENDAR