BEGIN:VCALENDAR
VERSION:2.0
PRODID:-//Lucky Bernie&#039;s - ECPv6.3.7//NONSGML v1.0//EN
CALSCALE:GREGORIAN
METHOD:PUBLISH
X-ORIGINAL-URL:https://luckybernies.com
X-WR-CALDESC:Events for Lucky Bernie&#039;s
REFRESH-INTERVAL;VALUE=DURATION:PT1H
X-Robots-Tag:noindex
X-PUBLISHED-TTL:PT1H
BEGIN:VTIMEZONE
TZID:America/Chicago
BEGIN:DAYLIGHT
TZOFFSETFROM:-0600
TZOFFSETTO:-0500
TZNAME:CDT
DTSTART:20190310T080000
END:DAYLIGHT
BEGIN:STANDARD
TZOFFSETFROM:-0500
TZOFFSETTO:-0600
TZNAME:CST
DTSTART:20191103T070000
END:STANDARD
END:VTIMEZONE
BEGIN:VEVENT
DTSTART;TZID=America/Chicago:20190104T183000
DTEND;TZID=America/Chicago:20190104T213000
DTSTAMP:20260425T195531
CREATED:20181206T190851Z
LAST-MODIFIED:20181206T190851Z
UID:2158-1546626600-1546637400@luckybernies.com
SUMMARY:Dani Lampi - Lucky Bernie's Spring Grove
DESCRIPTION:Join us at the Lucky Bernie’s Spring Grove location to see Dani Lampi live!
URL:https://luckybernies.com/event/dani-lampi-lucky-bernies-spring-grove/
LOCATION:Lucky Bernies Spring Grove\, 2450 U.S. 12\, Spring Grove\, IL\, 60081\, United States
CATEGORIES:Live Music
GEO:42.4376647;-88.2451018
X-APPLE-STRUCTURED-LOCATION;VALUE=URI;X-ADDRESS=Lucky Bernies Spring Grove 2450 U.S. 12 Spring Grove IL 60081 United States;X-APPLE-RADIUS=500;X-TITLE=2450 U.S. 12:geo:-88.2451018,42.4376647
END:VEVENT
BEGIN:VEVENT
DTSTART;TZID=America/Chicago:20190104T193000
DTEND;TZID=America/Chicago:20190104T223000
DTSTAMP:20260425T195531
CREATED:20181206T190641Z
LAST-MODIFIED:20190227T003358Z
UID:2155-1546630200-1546641000@luckybernies.com
SUMMARY:Mighty Joe - Lucky Bernie's Woodstock
DESCRIPTION:Come watch Mighty Joe play live at Lucky Bernie’s in Woodstock Il
URL:https://luckybernies.com/event/mighty-joe-lucky-bernies-woodstock-2/2019-01-04/
LOCATION:Lucky Bernies Woodstock\, 11605 Catalpa Ln\, Woodstock\,\, IL\, 60098\, United States
CATEGORIES:Live Music
ATTACH;FMTTYPE=image/jpeg:https://luckybernies.com/wp-content/uploads/2018/02/lucky-bernies-live-music.jpg
GEO:42.2946704;-88.4286595
X-APPLE-STRUCTURED-LOCATION;VALUE=URI;X-ADDRESS=Lucky Bernies Woodstock 11605 Catalpa Ln Woodstock IL 60098 United States;X-APPLE-RADIUS=500;X-TITLE=11605 Catalpa Ln:geo:-88.4286595,42.2946704
END:VEVENT
BEGIN:VEVENT
DTSTART;TZID=America/Chicago:20190112T190000
DTEND;TZID=America/Chicago:20190112T220000
DTSTAMP:20260425T195531
CREATED:20181219T183744Z
LAST-MODIFIED:20181219T183841Z
UID:2185-1547319600-1547330400@luckybernies.com
SUMMARY:Huntley Comedy Show - Featuring Anthony F'tezz
DESCRIPTION:Come in and laugh with the Lucky Bernies team!! $10 Tickets. \nAnthony F’tezz\nSo when I was a child I would stand in front of my tv when the family was there and I would do stand up and tells jokes and my ma would always tell people. ” he’s going to be a comedian. I was born and raised in Brooklyn and I joined the army in 2000 and I was deployed and while deployed my Sgt. Would always ask me to tell some jokes to keep morale up. That’s when I knew in my heart what I wanted to do. After I got out of the army I began running a restaurant with my father and I was miserable there until a buddy if mine signed me up for an open mic in the neighborhood and forced me to do it and after that first open mic I fell in love and knew it was what I wanted to do and I’ve been doing it since. There’s nothing better than giving people the gift of laughter. I’ve performed at the laugh out loud\, laugh factory\, Joe’s bar on weed st. Simone’s bar and several other locations.
URL:https://luckybernies.com/event/huntley-comedy-show-featuring-anthony-ftezz/
LOCATION:Lucky Bernie’s Huntley\, 9810 N. State Rt. 47\, Huntley\, IL\, 60142\, United States
CATEGORIES:Comedy
ATTACH;FMTTYPE=image/jpeg:https://luckybernies.com/wp-content/uploads/2017/08/Huntley-comedy-show.jpg
GEO:42.1858856;-88.421364
X-APPLE-STRUCTURED-LOCATION;VALUE=URI;X-ADDRESS=Lucky Bernie’s Huntley 9810 N. State Rt. 47 Huntley IL 60142 United States;X-APPLE-RADIUS=500;X-TITLE=9810 N. State Rt. 47:geo:-88.421364,42.1858856
END:VEVENT
BEGIN:VEVENT
DTSTART;TZID=America/Chicago:20190122T190000
DTEND;TZID=America/Chicago:20190122T220000
DTSTAMP:20260425T195531
CREATED:20190114T160800Z
LAST-MODIFIED:20190114T161124Z
UID:2191-1548183600-1548194400@luckybernies.com
SUMMARY:Trivia Night Huntley IL
DESCRIPTION:What’s an awesome way to spend an evening? Trivia Night at Lucky Bernie’s! WIN PRIZES!!! You’re invited to Lucky Bernie’s Trivia Night Huntley IL. Think you have the brains to beat everyone? Bring your friends and show them what you’ve got. We’re giving away prizes to winners so don’t be shy.
URL:https://luckybernies.com/event/trivia-night-huntley-il/2019-01-22/
LOCATION:Lucky Bernie’s Huntley\, 9810 N. State Rt. 47\, Huntley\, IL\, 60142\, United States
CATEGORIES:Trivia
ATTACH;FMTTYPE=image/png:https://luckybernies.com/wp-content/uploads/2019/01/lucky-bernies-trivia-night-tuesdays.png
GEO:42.1858856;-88.421364
X-APPLE-STRUCTURED-LOCATION;VALUE=URI;X-ADDRESS=Lucky Bernie’s Huntley 9810 N. State Rt. 47 Huntley IL 60142 United States;X-APPLE-RADIUS=500;X-TITLE=9810 N. State Rt. 47:geo:-88.421364,42.1858856
END:VEVENT
END:VCALENDAR