BEGIN:VCALENDAR
VERSION:2.0
PRODID:-//Lucky Bernie&#039;s - ECPv6.3.7//NONSGML v1.0//EN
CALSCALE:GREGORIAN
METHOD:PUBLISH
X-WR-CALNAME:Lucky Bernie&#039;s
X-ORIGINAL-URL:https://luckybernies.com
X-WR-CALDESC:Events for Lucky Bernie&#039;s
REFRESH-INTERVAL;VALUE=DURATION:PT1H
X-Robots-Tag:noindex
X-PUBLISHED-TTL:PT1H
BEGIN:VTIMEZONE
TZID:America/Chicago
BEGIN:DAYLIGHT
TZOFFSETFROM:-0600
TZOFFSETTO:-0500
TZNAME:CDT
DTSTART:20190310T080000
END:DAYLIGHT
BEGIN:STANDARD
TZOFFSETFROM:-0500
TZOFFSETTO:-0600
TZNAME:CST
DTSTART:20191103T070000
END:STANDARD
END:VTIMEZONE
BEGIN:VEVENT
DTSTART;TZID=America/Chicago:20190301T183000
DTEND;TZID=America/Chicago:20190301T213000
DTSTAMP:20260425T164813
CREATED:20190227T002925Z
LAST-MODIFIED:20190227T002925Z
UID:2240-1551465000-1551475800@luckybernies.com
SUMMARY:Scott Hendricks - Lucky Bernie's Spring Grove
DESCRIPTION:Join us at the Lucky Bernie’s in Spring Grove to see Scott Hendricks live!
URL:https://luckybernies.com/event/scott-hendricks-lucky-bernies-spring-grove/
LOCATION:Lucky Bernies Spring Grove\, 2450 U.S. 12\, Spring Grove\, IL\, 60081\, United States
CATEGORIES:Live Music
ATTACH;FMTTYPE=image/jpeg:https://luckybernies.com/wp-content/uploads/2018/02/lucky-bernies-live-music.jpg
GEO:42.4376647;-88.2451018
X-APPLE-STRUCTURED-LOCATION;VALUE=URI;X-ADDRESS=Lucky Bernies Spring Grove 2450 U.S. 12 Spring Grove IL 60081 United States;X-APPLE-RADIUS=500;X-TITLE=2450 U.S. 12:geo:-88.2451018,42.4376647
END:VEVENT
BEGIN:VEVENT
DTSTART;TZID=America/Chicago:20190302T190000
DTEND;TZID=America/Chicago:20190302T220000
DTSTAMP:20260425T164813
CREATED:20190227T004831Z
LAST-MODIFIED:20190227T004831Z
UID:2270-1551553200-1551564000@luckybernies.com
SUMMARY:Woodstock Comedy Show - Featuring Anthony F'tezz
DESCRIPTION:Come in and laugh with the Lucky Bernies team!! $10 Tickets. \nAnthony F’tezz\nSo when I was a child I would stand in front of my tv when the family was there and I would do stand up and tells jokes and my ma would always tell people. ” he’s going to be a comedian. I was born and raised in Brooklyn and I joined the army in 2000 and I was deployed and while deployed my Sgt. Would always ask me to tell some jokes to keep morale up. That’s when I knew in my heart what I wanted to do. After I got out of the army I began running a restaurant with my father and I was miserable there until a buddy if mine signed me up for an open mic in the neighborhood and forced me to do it and after that first open mic I fell in love and knew it was what I wanted to do and I’ve been doing it since. There’s nothing better than giving people the gift of laughter. I’ve performed at the laugh out loud\, laugh factory\, Joe’s bar on weed st. Simone’s bar and several other locations.
URL:https://luckybernies.com/event/woodstock-comedy-show-featuring-anthony-ftezz/
LOCATION:Lucky Bernies Woodstock\, 11605 Catalpa Ln\, Woodstock\,\, IL\, 60098\, United States
CATEGORIES:Comedy
ATTACH;FMTTYPE=image/png:https://luckybernies.com/wp-content/uploads/2019/02/WS_03-02-19_8.5x11.png
GEO:42.2946704;-88.4286595
X-APPLE-STRUCTURED-LOCATION;VALUE=URI;X-ADDRESS=Lucky Bernies Woodstock 11605 Catalpa Ln Woodstock IL 60098 United States;X-APPLE-RADIUS=500;X-TITLE=11605 Catalpa Ln:geo:-88.4286595,42.2946704
END:VEVENT
BEGIN:VEVENT
DTSTART;TZID=America/Chicago:20190315T190000
DTEND;TZID=America/Chicago:20190315T220000
DTSTAMP:20260425T164813
CREATED:20190227T003657Z
LAST-MODIFIED:20190227T003657Z
UID:2255-1552676400-1552687200@luckybernies.com
SUMMARY:Scott Hendricks - Lucky Bernie's Huntley
DESCRIPTION:Join us at the Lucky Bernie’s in Huntley to see Scott Hendricks live!
URL:https://luckybernies.com/event/scott-hendricks-lucky-bernies-huntley/
LOCATION:Lucky Bernie’s Huntley\, 9810 N. State Rt. 47\, Huntley\, IL\, 60142\, United States
CATEGORIES:Live Music
ATTACH;FMTTYPE=image/jpeg:https://luckybernies.com/wp-content/uploads/2018/02/lucky-bernies-live-music.jpg
GEO:42.1858856;-88.421364
X-APPLE-STRUCTURED-LOCATION;VALUE=URI;X-ADDRESS=Lucky Bernie’s Huntley 9810 N. State Rt. 47 Huntley IL 60142 United States;X-APPLE-RADIUS=500;X-TITLE=9810 N. State Rt. 47:geo:-88.421364,42.1858856
END:VEVENT
BEGIN:VEVENT
DTSTART;TZID=America/Chicago:20190322T190000
DTEND;TZID=America/Chicago:20190322T220000
DTSTAMP:20260425T164813
CREATED:20190227T004134Z
LAST-MODIFIED:20190227T004134Z
UID:2268-1553281200-1553292000@luckybernies.com
SUMMARY:John Ballentine Jr. - Lucky Bernie's Huntley
DESCRIPTION:Come watch John Ballentine Jr. live at Lucky Bernie’s in HuntleyHuntley
URL:https://luckybernies.com/event/john-ballentine-jr-lucky-bernies-huntley/
LOCATION:Lucky Bernie’s Huntley\, 9810 N. State Rt. 47\, Huntley\, IL\, 60142\, United States
CATEGORIES:Live Music
ATTACH;FMTTYPE=image/jpeg:https://luckybernies.com/wp-content/uploads/2018/02/lucky-bernies-live-music.jpg
GEO:42.1858856;-88.421364
X-APPLE-STRUCTURED-LOCATION;VALUE=URI;X-ADDRESS=Lucky Bernie’s Huntley 9810 N. State Rt. 47 Huntley IL 60142 United States;X-APPLE-RADIUS=500;X-TITLE=9810 N. State Rt. 47:geo:-88.421364,42.1858856
END:VEVENT
END:VCALENDAR