BEGIN:VCALENDAR
VERSION:2.0
PRODID:-//Lucky Bernie&#039;s - ECPv6.3.7//NONSGML v1.0//EN
CALSCALE:GREGORIAN
METHOD:PUBLISH
X-WR-CALNAME:Lucky Bernie&#039;s
X-ORIGINAL-URL:https://luckybernies.com
X-WR-CALDESC:Events for Lucky Bernie&#039;s
REFRESH-INTERVAL;VALUE=DURATION:PT1H
X-Robots-Tag:noindex
X-PUBLISHED-TTL:PT1H
BEGIN:VTIMEZONE
TZID:America/Chicago
BEGIN:DAYLIGHT
TZOFFSETFROM:-0600
TZOFFSETTO:-0500
TZNAME:CDT
DTSTART:20190310T080000
END:DAYLIGHT
BEGIN:STANDARD
TZOFFSETFROM:-0500
TZOFFSETTO:-0600
TZNAME:CST
DTSTART:20191103T070000
END:STANDARD
END:VTIMEZONE
BEGIN:VEVENT
DTSTART;TZID=America/Chicago:20190405T183000
DTEND;TZID=America/Chicago:20190405T210000
DTSTAMP:20260425T134010
CREATED:20190328T152443Z
LAST-MODIFIED:20190328T154321Z
UID:2308-1554489000-1554498000@luckybernies.com
SUMMARY:Peter Berwick at Spring Grove
DESCRIPTION:
URL:https://luckybernies.com/event/peter-berwick-at-spring-grove/
LOCATION:Lucky Bernies Spring Grove\, 2450 U.S. 12\, Spring Grove\, IL\, 60081\, United States
CATEGORIES:Live Music
ATTACH;FMTTYPE=image/jpeg:https://luckybernies.com/wp-content/uploads/2018/02/lucky-bernies-live-music.jpg
GEO:42.4376647;-88.2451018
X-APPLE-STRUCTURED-LOCATION;VALUE=URI;X-ADDRESS=Lucky Bernies Spring Grove 2450 U.S. 12 Spring Grove IL 60081 United States;X-APPLE-RADIUS=500;X-TITLE=2450 U.S. 12:geo:-88.2451018,42.4376647
END:VEVENT
BEGIN:VEVENT
DTSTART;TZID=America/Chicago:20190405T190000
DTEND;TZID=America/Chicago:20190405T220000
DTSTAMP:20260425T134010
CREATED:20190328T152548Z
LAST-MODIFIED:20190328T154439Z
UID:2310-1554490800-1554501600@luckybernies.com
SUMMARY:Just Jake at Huntley
DESCRIPTION:
URL:https://luckybernies.com/event/just-jake-at-huntley/
LOCATION:Lucky Bernie’s Huntley\, 9810 N. State Rt. 47\, Huntley\, IL\, 60142\, United States
CATEGORIES:Live Music
ATTACH;FMTTYPE=image/jpeg:https://luckybernies.com/wp-content/uploads/2018/02/lucky-bernies-live-music.jpg
GEO:42.1858856;-88.421364
X-APPLE-STRUCTURED-LOCATION;VALUE=URI;X-ADDRESS=Lucky Bernie’s Huntley 9810 N. State Rt. 47 Huntley IL 60142 United States;X-APPLE-RADIUS=500;X-TITLE=9810 N. State Rt. 47:geo:-88.421364,42.1858856
END:VEVENT
BEGIN:VEVENT
DTSTART;TZID=America/Chicago:20190405T193000
DTEND;TZID=America/Chicago:20190405T223000
DTSTAMP:20260425T134010
CREATED:20190328T152643Z
LAST-MODIFIED:20190328T154916Z
UID:2312-1554492600-1554503400@luckybernies.com
SUMMARY:Bailey Evert at Woodstock
DESCRIPTION:
URL:https://luckybernies.com/event/bailey-evert-at-woodstock/
LOCATION:Lucky Bernies Woodstock\, 11605 Catalpa Ln\, Woodstock\,\, IL\, 60098\, United States
CATEGORIES:Live Music
ATTACH;FMTTYPE=image/jpeg:https://luckybernies.com/wp-content/uploads/2018/02/lucky-bernies-live-music.jpg
GEO:42.2946704;-88.4286595
X-APPLE-STRUCTURED-LOCATION;VALUE=URI;X-ADDRESS=Lucky Bernies Woodstock 11605 Catalpa Ln Woodstock IL 60098 United States;X-APPLE-RADIUS=500;X-TITLE=11605 Catalpa Ln:geo:-88.4286595,42.2946704
END:VEVENT
BEGIN:VEVENT
DTSTART;TZID=America/Chicago:20190412T183000
DTEND;TZID=America/Chicago:20190412T213000
DTSTAMP:20260425T134010
CREATED:20190328T153901Z
LAST-MODIFIED:20190328T155042Z
UID:2314-1555093800-1555104600@luckybernies.com
SUMMARY:Tara and Brian at Spring Grove
DESCRIPTION:
URL:https://luckybernies.com/event/tara-and-brian-at-spring-grove/
LOCATION:Lucky Bernies Spring Grove\, 2450 U.S. 12\, Spring Grove\, IL\, 60081\, United States
CATEGORIES:Live Music
ATTACH;FMTTYPE=image/jpeg:https://luckybernies.com/wp-content/uploads/2018/02/lucky-bernies-live-music.jpg
GEO:42.4376647;-88.2451018
X-APPLE-STRUCTURED-LOCATION;VALUE=URI;X-ADDRESS=Lucky Bernies Spring Grove 2450 U.S. 12 Spring Grove IL 60081 United States;X-APPLE-RADIUS=500;X-TITLE=2450 U.S. 12:geo:-88.2451018,42.4376647
END:VEVENT
BEGIN:VEVENT
DTSTART;TZID=America/Chicago:20190412T190000
DTEND;TZID=America/Chicago:20190412T220000
DTSTAMP:20260425T134010
CREATED:20190328T154058Z
LAST-MODIFIED:20190328T155205Z
UID:2316-1555095600-1555106400@luckybernies.com
SUMMARY:Pete Berwick at Huntley
DESCRIPTION:
URL:https://luckybernies.com/event/pete-berwick-at-huntley/
LOCATION:Lucky Bernie’s Huntley\, 9810 N. State Rt. 47\, Huntley\, IL\, 60142\, United States
CATEGORIES:Live Music
ATTACH;FMTTYPE=image/jpeg:https://luckybernies.com/wp-content/uploads/2018/02/lucky-bernies-live-music.jpg
GEO:42.1858856;-88.421364
X-APPLE-STRUCTURED-LOCATION;VALUE=URI;X-ADDRESS=Lucky Bernie’s Huntley 9810 N. State Rt. 47 Huntley IL 60142 United States;X-APPLE-RADIUS=500;X-TITLE=9810 N. State Rt. 47:geo:-88.421364,42.1858856
END:VEVENT
BEGIN:VEVENT
DTSTART;TZID=America/Chicago:20190412T193000
DTEND;TZID=America/Chicago:20190412T223000
DTSTAMP:20260425T134010
CREATED:20190328T154221Z
LAST-MODIFIED:20190328T160644Z
UID:2318-1555097400-1555108200@luckybernies.com
SUMMARY:Mary Lai at Woodstock
DESCRIPTION:
URL:https://luckybernies.com/event/mary-lai-at-woodstock/
LOCATION:Lucky Bernies Woodstock\, 11605 Catalpa Ln\, Woodstock\,\, IL\, 60098\, United States
CATEGORIES:Live Music
ATTACH;FMTTYPE=image/jpeg:https://luckybernies.com/wp-content/uploads/2018/02/lucky-bernies-live-music.jpg
GEO:42.2946704;-88.4286595
X-APPLE-STRUCTURED-LOCATION;VALUE=URI;X-ADDRESS=Lucky Bernies Woodstock 11605 Catalpa Ln Woodstock IL 60098 United States;X-APPLE-RADIUS=500;X-TITLE=11605 Catalpa Ln:geo:-88.4286595,42.2946704
END:VEVENT
BEGIN:VEVENT
DTSTART;TZID=America/Chicago:20190419T183000
DTEND;TZID=America/Chicago:20190419T213000
DTSTAMP:20260425T134010
CREATED:20190328T154544Z
LAST-MODIFIED:20190328T154544Z
UID:2320-1555698600-1555709400@luckybernies.com
SUMMARY:Chris Minardi at Spring Grove
DESCRIPTION:
URL:https://luckybernies.com/event/chris-minardi-at-spring-grove/
LOCATION:Lucky Bernies Spring Grove\, 2450 U.S. 12\, Spring Grove\, IL\, 60081\, United States
CATEGORIES:Live Music
ATTACH;FMTTYPE=image/jpeg:https://luckybernies.com/wp-content/uploads/2018/02/lucky-bernies-live-music.jpg
GEO:42.4376647;-88.2451018
X-APPLE-STRUCTURED-LOCATION;VALUE=URI;X-ADDRESS=Lucky Bernies Spring Grove 2450 U.S. 12 Spring Grove IL 60081 United States;X-APPLE-RADIUS=500;X-TITLE=2450 U.S. 12:geo:-88.2451018,42.4376647
END:VEVENT
BEGIN:VEVENT
DTSTART;TZID=America/Chicago:20190419T190000
DTEND;TZID=America/Chicago:20190419T220000
DTSTAMP:20260425T134010
CREATED:20190328T154712Z
LAST-MODIFIED:20190328T154712Z
UID:2322-1555700400-1555711200@luckybernies.com
SUMMARY:Rick Venn at Huntley
DESCRIPTION:
URL:https://luckybernies.com/event/rick-venn-at-huntley/
LOCATION:Lucky Bernie’s Huntley\, 9810 N. State Rt. 47\, Huntley\, IL\, 60142\, United States
CATEGORIES:Live Music
ATTACH;FMTTYPE=image/jpeg:https://luckybernies.com/wp-content/uploads/2018/02/lucky-bernies-live-music.jpg
GEO:42.1858856;-88.421364
X-APPLE-STRUCTURED-LOCATION;VALUE=URI;X-ADDRESS=Lucky Bernie’s Huntley 9810 N. State Rt. 47 Huntley IL 60142 United States;X-APPLE-RADIUS=500;X-TITLE=9810 N. State Rt. 47:geo:-88.421364,42.1858856
END:VEVENT
BEGIN:VEVENT
DTSTART;TZID=America/Chicago:20190419T193000
DTEND;TZID=America/Chicago:20190419T223000
DTSTAMP:20260425T134010
CREATED:20190328T154817Z
LAST-MODIFIED:20190328T155854Z
UID:2324-1555702200-1555713000@luckybernies.com
SUMMARY:John Ballentine at Woodstock
DESCRIPTION:
URL:https://luckybernies.com/event/john-ballentine-at-woodstock/
LOCATION:Lucky Bernies Woodstock\, 11605 Catalpa Ln\, Woodstock\,\, IL\, 60098\, United States
CATEGORIES:Live Music
ATTACH;FMTTYPE=image/jpeg:https://luckybernies.com/wp-content/uploads/2018/02/lucky-bernies-live-music.jpg
GEO:42.2946704;-88.4286595
X-APPLE-STRUCTURED-LOCATION;VALUE=URI;X-ADDRESS=Lucky Bernies Woodstock 11605 Catalpa Ln Woodstock IL 60098 United States;X-APPLE-RADIUS=500;X-TITLE=11605 Catalpa Ln:geo:-88.4286595,42.2946704
END:VEVENT
BEGIN:VEVENT
DTSTART;TZID=America/Chicago:20190426T183000
DTEND;TZID=America/Chicago:20190426T213000
DTSTAMP:20260425T134010
CREATED:20190328T155400Z
LAST-MODIFIED:20190328T155400Z
UID:2326-1556303400-1556314200@luckybernies.com
SUMMARY:Rotten Bros at Spring Grove
DESCRIPTION:
URL:https://luckybernies.com/event/rotten-bros-at-spring-grove/
LOCATION:Lucky Bernies Spring Grove\, 2450 U.S. 12\, Spring Grove\, IL\, 60081\, United States
CATEGORIES:Live Music
ATTACH;FMTTYPE=image/jpeg:https://luckybernies.com/wp-content/uploads/2018/02/lucky-bernies-live-music.jpg
GEO:42.4376647;-88.2451018
X-APPLE-STRUCTURED-LOCATION;VALUE=URI;X-ADDRESS=Lucky Bernies Spring Grove 2450 U.S. 12 Spring Grove IL 60081 United States;X-APPLE-RADIUS=500;X-TITLE=2450 U.S. 12:geo:-88.2451018,42.4376647
END:VEVENT
BEGIN:VEVENT
DTSTART;TZID=America/Chicago:20190426T190000
DTEND;TZID=America/Chicago:20190426T220000
DTSTAMP:20260425T134010
CREATED:20190328T155522Z
LAST-MODIFIED:20190328T155522Z
UID:2328-1556305200-1556316000@luckybernies.com
SUMMARY:Mary Lai at Huntley
DESCRIPTION:
URL:https://luckybernies.com/event/mary-lai-at-huntley/
LOCATION:Lucky Bernie’s Huntley\, 9810 N. State Rt. 47\, Huntley\, IL\, 60142\, United States
CATEGORIES:Live Music
ATTACH;FMTTYPE=image/jpeg:https://luckybernies.com/wp-content/uploads/2018/02/lucky-bernies-live-music.jpg
GEO:42.1858856;-88.421364
X-APPLE-STRUCTURED-LOCATION;VALUE=URI;X-ADDRESS=Lucky Bernie’s Huntley 9810 N. State Rt. 47 Huntley IL 60142 United States;X-APPLE-RADIUS=500;X-TITLE=9810 N. State Rt. 47:geo:-88.421364,42.1858856
END:VEVENT
BEGIN:VEVENT
DTSTART;TZID=America/Chicago:20190426T193000
DTEND;TZID=America/Chicago:20190426T223000
DTSTAMP:20260425T134010
CREATED:20190328T155641Z
LAST-MODIFIED:20190328T155641Z
UID:2330-1556307000-1556317800@luckybernies.com
SUMMARY:Just Jake at Woodstock
DESCRIPTION:
URL:https://luckybernies.com/event/just-jake-at-woodstock/
LOCATION:Lucky Bernies Woodstock\, 11605 Catalpa Ln\, Woodstock\,\, IL\, 60098\, United States
CATEGORIES:Live Music
ATTACH;FMTTYPE=image/jpeg:https://luckybernies.com/wp-content/uploads/2018/02/lucky-bernies-live-music.jpg
GEO:42.2946704;-88.4286595
X-APPLE-STRUCTURED-LOCATION;VALUE=URI;X-ADDRESS=Lucky Bernies Woodstock 11605 Catalpa Ln Woodstock IL 60098 United States;X-APPLE-RADIUS=500;X-TITLE=11605 Catalpa Ln:geo:-88.4286595,42.2946704
END:VEVENT
END:VCALENDAR