BEGIN:VCALENDAR
VERSION:2.0
PRODID:-//Lucky Bernie&#039;s - ECPv6.3.7//NONSGML v1.0//EN
CALSCALE:GREGORIAN
METHOD:PUBLISH
X-ORIGINAL-URL:https://luckybernies.com
X-WR-CALDESC:Events for Lucky Bernie&#039;s
REFRESH-INTERVAL;VALUE=DURATION:PT1H
X-Robots-Tag:noindex
X-PUBLISHED-TTL:PT1H
BEGIN:VTIMEZONE
TZID:America/Chicago
BEGIN:DAYLIGHT
TZOFFSETFROM:-0600
TZOFFSETTO:-0500
TZNAME:CDT
DTSTART:20190310T080000
END:DAYLIGHT
BEGIN:STANDARD
TZOFFSETFROM:-0500
TZOFFSETTO:-0600
TZNAME:CST
DTSTART:20191103T070000
END:STANDARD
END:VTIMEZONE
BEGIN:VEVENT
DTSTART;TZID=America/Chicago:20190607T183000
DTEND;TZID=America/Chicago:20190607T213000
DTSTAMP:20260425T111411
CREATED:20190520T200243Z
LAST-MODIFIED:20190520T200243Z
UID:2555-1559932200-1559943000@luckybernies.com
SUMMARY:Pete Berwick at Spring Grove
DESCRIPTION:
URL:https://luckybernies.com/event/pete-berwick-at-spring-grove-2/
LOCATION:Lucky Bernies Spring Grove\, 2450 U.S. 12\, Spring Grove\, IL\, 60081\, United States
CATEGORIES:Live Music
ATTACH;FMTTYPE=image/jpeg:https://luckybernies.com/wp-content/uploads/2018/02/lucky-bernies-live-music.jpg
GEO:42.4376647;-88.2451018
X-APPLE-STRUCTURED-LOCATION;VALUE=URI;X-ADDRESS=Lucky Bernies Spring Grove 2450 U.S. 12 Spring Grove IL 60081 United States;X-APPLE-RADIUS=500;X-TITLE=2450 U.S. 12:geo:-88.2451018,42.4376647
END:VEVENT
BEGIN:VEVENT
DTSTART;TZID=America/Chicago:20190607T190000
DTEND;TZID=America/Chicago:20190607T220000
DTSTAMP:20260425T111411
CREATED:20190520T200712Z
LAST-MODIFIED:20190520T200712Z
UID:2563-1559934000-1559944800@luckybernies.com
SUMMARY:Just Jake at Huntley
DESCRIPTION:
URL:https://luckybernies.com/event/just-jake-at-huntley-2/
LOCATION:Lucky Bernie’s Huntley\, 9810 N. State Rt. 47\, Huntley\, IL\, 60142\, United States
CATEGORIES:Live Music
ATTACH;FMTTYPE=image/jpeg:https://luckybernies.com/wp-content/uploads/2018/02/lucky-bernies-live-music.jpg
GEO:42.1858856;-88.421364
X-APPLE-STRUCTURED-LOCATION;VALUE=URI;X-ADDRESS=Lucky Bernie’s Huntley 9810 N. State Rt. 47 Huntley IL 60142 United States;X-APPLE-RADIUS=500;X-TITLE=9810 N. State Rt. 47:geo:-88.421364,42.1858856
END:VEVENT
BEGIN:VEVENT
DTSTART;TZID=America/Chicago:20190607T193000
DTEND;TZID=America/Chicago:20190607T223000
DTSTAMP:20260425T111411
CREATED:20190520T201130Z
LAST-MODIFIED:20190520T201130Z
UID:2571-1559935800-1559946600@luckybernies.com
SUMMARY:Bailey Evert at Woodstock
DESCRIPTION:
URL:https://luckybernies.com/event/bailey-evert-at-woodstock-2/
LOCATION:Lucky Bernies Woodstock\, 11605 Catalpa Ln\, Woodstock\,\, IL\, 60098\, United States
CATEGORIES:Live Music
ATTACH;FMTTYPE=image/jpeg:https://luckybernies.com/wp-content/uploads/2018/02/lucky-bernies-live-music.jpg
GEO:42.2946704;-88.4286595
X-APPLE-STRUCTURED-LOCATION;VALUE=URI;X-ADDRESS=Lucky Bernies Woodstock 11605 Catalpa Ln Woodstock IL 60098 United States;X-APPLE-RADIUS=500;X-TITLE=11605 Catalpa Ln:geo:-88.4286595,42.2946704
END:VEVENT
BEGIN:VEVENT
DTSTART;TZID=America/Chicago:20190614T183000
DTEND;TZID=America/Chicago:20190614T213000
DTSTAMP:20260425T111411
CREATED:20190520T200338Z
LAST-MODIFIED:20190520T200338Z
UID:2557-1560537000-1560547800@luckybernies.com
SUMMARY:Just Jake at Spring Grove
DESCRIPTION:
URL:https://luckybernies.com/event/just-jake-at-spring-grove-2/
LOCATION:Lucky Bernies Spring Grove\, 2450 U.S. 12\, Spring Grove\, IL\, 60081\, United States
CATEGORIES:Live Music
ATTACH;FMTTYPE=image/jpeg:https://luckybernies.com/wp-content/uploads/2018/02/lucky-bernies-live-music.jpg
GEO:42.4376647;-88.2451018
X-APPLE-STRUCTURED-LOCATION;VALUE=URI;X-ADDRESS=Lucky Bernies Spring Grove 2450 U.S. 12 Spring Grove IL 60081 United States;X-APPLE-RADIUS=500;X-TITLE=2450 U.S. 12:geo:-88.2451018,42.4376647
END:VEVENT
BEGIN:VEVENT
DTSTART;TZID=America/Chicago:20190614T190000
DTEND;TZID=America/Chicago:20190614T220000
DTSTAMP:20260425T111411
CREATED:20190520T200816Z
LAST-MODIFIED:20190520T200816Z
UID:2565-1560538800-1560549600@luckybernies.com
SUMMARY:Mighty Joe at Huntley
DESCRIPTION:
URL:https://luckybernies.com/event/mighty-joe-at-huntley/
LOCATION:Lucky Bernie’s Huntley\, 9810 N. State Rt. 47\, Huntley\, IL\, 60142\, United States
CATEGORIES:Live Music
ATTACH;FMTTYPE=image/jpeg:https://luckybernies.com/wp-content/uploads/2018/02/lucky-bernies-live-music.jpg
GEO:42.1858856;-88.421364
X-APPLE-STRUCTURED-LOCATION;VALUE=URI;X-ADDRESS=Lucky Bernie’s Huntley 9810 N. State Rt. 47 Huntley IL 60142 United States;X-APPLE-RADIUS=500;X-TITLE=9810 N. State Rt. 47:geo:-88.421364,42.1858856
END:VEVENT
BEGIN:VEVENT
DTSTART;TZID=America/Chicago:20190614T193000
DTEND;TZID=America/Chicago:20190614T223000
DTSTAMP:20260425T111411
CREATED:20190520T201252Z
LAST-MODIFIED:20190520T201252Z
UID:2573-1560540600-1560551400@luckybernies.com
SUMMARY:Mary Lai at Woodstock
DESCRIPTION:
URL:https://luckybernies.com/event/mary-lai-at-woodstock-2/
LOCATION:Lucky Bernies Woodstock\, 11605 Catalpa Ln\, Woodstock\,\, IL\, 60098\, United States
CATEGORIES:Live Music
ATTACH;FMTTYPE=image/jpeg:https://luckybernies.com/wp-content/uploads/2018/02/lucky-bernies-live-music.jpg
GEO:42.2946704;-88.4286595
X-APPLE-STRUCTURED-LOCATION;VALUE=URI;X-ADDRESS=Lucky Bernies Woodstock 11605 Catalpa Ln Woodstock IL 60098 United States;X-APPLE-RADIUS=500;X-TITLE=11605 Catalpa Ln:geo:-88.4286595,42.2946704
END:VEVENT
BEGIN:VEVENT
DTSTART;TZID=America/Chicago:20190621T183000
DTEND;TZID=America/Chicago:20190621T213000
DTSTAMP:20260425T111411
CREATED:20190520T200433Z
LAST-MODIFIED:20190520T200433Z
UID:2559-1561141800-1561152600@luckybernies.com
SUMMARY:Tara and Brian at Spring Grove
DESCRIPTION:
URL:https://luckybernies.com/event/tara-and-brian-at-spring-grove-2/
LOCATION:Lucky Bernies Spring Grove\, 2450 U.S. 12\, Spring Grove\, IL\, 60081\, United States
CATEGORIES:Live Music
ATTACH;FMTTYPE=image/jpeg:https://luckybernies.com/wp-content/uploads/2018/02/lucky-bernies-live-music.jpg
GEO:42.4376647;-88.2451018
X-APPLE-STRUCTURED-LOCATION;VALUE=URI;X-ADDRESS=Lucky Bernies Spring Grove 2450 U.S. 12 Spring Grove IL 60081 United States;X-APPLE-RADIUS=500;X-TITLE=2450 U.S. 12:geo:-88.2451018,42.4376647
END:VEVENT
BEGIN:VEVENT
DTSTART;TZID=America/Chicago:20190621T190000
DTEND;TZID=America/Chicago:20190621T220000
DTSTAMP:20260425T111411
CREATED:20190520T200921Z
LAST-MODIFIED:20190520T200921Z
UID:2567-1561143600-1561154400@luckybernies.com
SUMMARY:Rick Venn at Huntley
DESCRIPTION:
URL:https://luckybernies.com/event/rick-venn-at-huntley-2/
LOCATION:Lucky Bernie’s Huntley\, 9810 N. State Rt. 47\, Huntley\, IL\, 60142\, United States
CATEGORIES:Live Music
ATTACH;FMTTYPE=image/jpeg:https://luckybernies.com/wp-content/uploads/2018/02/lucky-bernies-live-music.jpg
GEO:42.1858856;-88.421364
X-APPLE-STRUCTURED-LOCATION;VALUE=URI;X-ADDRESS=Lucky Bernie’s Huntley 9810 N. State Rt. 47 Huntley IL 60142 United States;X-APPLE-RADIUS=500;X-TITLE=9810 N. State Rt. 47:geo:-88.421364,42.1858856
END:VEVENT
BEGIN:VEVENT
DTSTART;TZID=America/Chicago:20190621T193000
DTEND;TZID=America/Chicago:20190621T223000
DTSTAMP:20260425T111411
CREATED:20190520T201346Z
LAST-MODIFIED:20190520T201346Z
UID:2575-1561145400-1561156200@luckybernies.com
SUMMARY:John Ballentyne at Woodstock
DESCRIPTION:
URL:https://luckybernies.com/event/john-ballentyne-at-woodstock/
LOCATION:Lucky Bernies Woodstock\, 11605 Catalpa Ln\, Woodstock\,\, IL\, 60098\, United States
CATEGORIES:Live Music
ATTACH;FMTTYPE=image/jpeg:https://luckybernies.com/wp-content/uploads/2018/02/lucky-bernies-live-music.jpg
GEO:42.2946704;-88.4286595
X-APPLE-STRUCTURED-LOCATION;VALUE=URI;X-ADDRESS=Lucky Bernies Woodstock 11605 Catalpa Ln Woodstock IL 60098 United States;X-APPLE-RADIUS=500;X-TITLE=11605 Catalpa Ln:geo:-88.4286595,42.2946704
END:VEVENT
BEGIN:VEVENT
DTSTART;TZID=America/Chicago:20190628T183000
DTEND;TZID=America/Chicago:20190628T213000
DTSTAMP:20260425T111411
CREATED:20190520T200602Z
LAST-MODIFIED:20190520T200602Z
UID:2561-1561746600-1561757400@luckybernies.com
SUMMARY:Rotten Bros at Spring Grove
DESCRIPTION:
URL:https://luckybernies.com/event/rotten-bros-at-spring-grove-3/
LOCATION:Lucky Bernies Spring Grove\, 2450 U.S. 12\, Spring Grove\, IL\, 60081\, United States
CATEGORIES:Live Music
ATTACH;FMTTYPE=image/jpeg:https://luckybernies.com/wp-content/uploads/2018/02/lucky-bernies-live-music.jpg
GEO:42.4376647;-88.2451018
X-APPLE-STRUCTURED-LOCATION;VALUE=URI;X-ADDRESS=Lucky Bernies Spring Grove 2450 U.S. 12 Spring Grove IL 60081 United States;X-APPLE-RADIUS=500;X-TITLE=2450 U.S. 12:geo:-88.2451018,42.4376647
END:VEVENT
BEGIN:VEVENT
DTSTART;TZID=America/Chicago:20190628T190000
DTEND;TZID=America/Chicago:20190628T220000
DTSTAMP:20260425T111411
CREATED:20190520T201012Z
LAST-MODIFIED:20190520T201012Z
UID:2569-1561748400-1561759200@luckybernies.com
SUMMARY:Carter Hoyt at Huntley
DESCRIPTION:
URL:https://luckybernies.com/event/carter-hoyt-at-huntley/
LOCATION:Lucky Bernie’s Huntley\, 9810 N. State Rt. 47\, Huntley\, IL\, 60142\, United States
CATEGORIES:Live Music
ATTACH;FMTTYPE=image/jpeg:https://luckybernies.com/wp-content/uploads/2018/02/lucky-bernies-live-music.jpg
GEO:42.1858856;-88.421364
X-APPLE-STRUCTURED-LOCATION;VALUE=URI;X-ADDRESS=Lucky Bernie’s Huntley 9810 N. State Rt. 47 Huntley IL 60142 United States;X-APPLE-RADIUS=500;X-TITLE=9810 N. State Rt. 47:geo:-88.421364,42.1858856
END:VEVENT
BEGIN:VEVENT
DTSTART;TZID=America/Chicago:20190628T193000
DTEND;TZID=America/Chicago:20190628T223000
DTSTAMP:20260425T111411
CREATED:20190520T201451Z
LAST-MODIFIED:20190520T201451Z
UID:2577-1561750200-1561761000@luckybernies.com
SUMMARY:Peter Berwick at Woodstock
DESCRIPTION:
URL:https://luckybernies.com/event/peter-berwick-at-woodstock/
LOCATION:Lucky Bernies Woodstock\, 11605 Catalpa Ln\, Woodstock\,\, IL\, 60098\, United States
CATEGORIES:Live Music
ATTACH;FMTTYPE=image/jpeg:https://luckybernies.com/wp-content/uploads/2018/02/lucky-bernies-live-music.jpg
GEO:42.2946704;-88.4286595
X-APPLE-STRUCTURED-LOCATION;VALUE=URI;X-ADDRESS=Lucky Bernies Woodstock 11605 Catalpa Ln Woodstock IL 60098 United States;X-APPLE-RADIUS=500;X-TITLE=11605 Catalpa Ln:geo:-88.4286595,42.2946704
END:VEVENT
END:VCALENDAR